Workbook
Name Interval: EMAIL_MARKETING!$I$3
Name Interval: WEB_ORGANIC!$I$3
Name Interval: 'WEB_Search Display'!$I$3
Name Interval: 'Sales Plan - SUMMARY'!$I$3
Name ScheduleStart: EMAIL_MARKETING!#REF!
Name ScheduleStart: WEB_ORGANIC!#REF!
Name ScheduleStart: 'WEB_Search Display'!#REF!
Name ScheduleStart: 'Sales Plan - SUMMARY'!#REF!

Sheet Sales Plan - SUMMARY
B1: SALES PLAN _SUMMARY
B2: FISCAL YEAR START DATE | C2: =TODAY() -> 46317
D4: =C2 -> 46317 | E4: =DATE(YEAR(D4),MONTH(D4)+1,1) -> 46327 | F4: =DATE(YEAR(E4),MONTH(E4)+1,1) -> 46357 | G4: =DATE(YEAR(F4),MONTH(F4)+1,1) -> 46388 | H4: =DATE(YEAR(G4),MONTH(G4)+1,1) -> 46419 | I4: =DATE(YEAR(H4),MONTH(H4)+1,1) -> 46447 | J4: =DATE(YEAR(I4),MONTH(I4)+1,1) -> 46478 | K4: =DATE(YEAR(J4),MONTH(J4)+1,1) -> 46508 | L4: =DATE(YEAR(K4),MONTH(K4)+1,1) -> 46539 | ... O4: =DATE(YEAR(N4),MONTH(N4)+1,1) -> 46631 | P4: TOTAL
B5: CUSTOMER BASE | C5: NEW ADDS | D5: ='WEB_Search Display'!D15+EMAIL_MARKETING!D19+WEB_ORGANIC!D11+PAID_SOCIAL_ECommerce!D15+APP_AD_SUPPORTED!D15+LINKEDIN_SOCIAL_SELLING!D24 -> 508.69091 | E5: ='WEB_Search Display'!E15+EMAIL_MARKETING!E19+WEB_ORGANIC!E11+PAID_SOCIAL_ECommerce!E15+APP_AD_SUPPORTED!E15+LINKEDIN_SOCIAL_SELLING!E24 -> 515.15549 | F5: ='WEB_Search Display'!F15+EMAIL_MARKETING!F19+WEB_ORGANIC!F11+PAID_SOCIAL_ECommerce!F15+APP_AD_SUPPORTED!F15+LINKEDIN_SOCIAL_SELLING!F24 -> 546.27869 | G5: ='WEB_Search Display'!G15+EMAIL_MARKETING!G19+WEB_ORGANIC!G11+PAID_SOCIAL_ECommerce!G15+APP_AD_SUPPORTED!G15+LINKEDIN_SOCIAL_SELLING!G24 -> 691.40189 | H5: ='WEB_Search Display'!H15+EMAIL_MARKETING!H19+WEB_ORGANIC!H11+PAID_SOCIAL_ECommerce!H15+APP_AD_SUPPORTED!H15+LINKEDIN_SOCIAL_SELLING!H24 -> 419.76553 | I5: ='WEB_Search Display'!I15+EMAIL_MARKETING!I19+WEB_ORGANIC!I11+PAID_SOCIAL_ECommerce!I15+APP_AD_SUPPORTED!I15+LINKEDIN_SOCIAL_SELLING!I24 -> 449.76553 | J5: ='WEB_Search Display'!J15+EMAIL_MARKETING!J19+WEB_ORGANIC!J11+PAID_SOCIAL_ECommerce!J15+APP_AD_SUPPORTED!J15+LINKEDIN_SOCIAL_SELLING!J24 -> 229.76553 | K5: ='WEB_Search Display'!K15+EMAIL_MARKETING!K19+WEB_ORGANIC!K11+PAID_SOCIAL_ECommerce!K15+APP_AD_SUPPORTED!K15+LINKEDIN_SOCIAL_SELLING!K24 -> 259.76553 | ... O5: ='WEB_Search Display'!O15+EMAIL_MARKETING!O19+WEB_ORGANIC!O11+PAID_SOCIAL_ECommerce!O15+APP_AD_SUPPORTED!O15+LINKEDIN_SOCIAL_SELLING!O24 -> 364.4928 | P5: =SUM(D5:O5) -> 4898.5603
C6: LOSSES | D6: ='WEB_Search Display'!D16+EMAIL_MARKETING!D20+WEB_ORGANIC!D12+PAID_SOCIAL_ECommerce!D16+APP_AD_SUPPORTED!D16+LINKEDIN_SOCIAL_SELLING!D25 -> 0 | E6: ='WEB_Search Display'!E16+EMAIL_MARKETING!E20+WEB_ORGANIC!E12+PAID_SOCIAL_ECommerce!E16+APP_AD_SUPPORTED!E16+LINKEDIN_SOCIAL_SELLING!E25 -> 78.681818 | F6: ='WEB_Search Display'!F16+EMAIL_MARKETING!F20+WEB_ORGANIC!F12+PAID_SOCIAL_ECommerce!F16+APP_AD_SUPPORTED!F16+LINKEDIN_SOCIAL_SELLING!F25 -> 137.67429 | G6: ='WEB_Search Display'!G16+EMAIL_MARKETING!G20+WEB_ORGANIC!G12+PAID_SOCIAL_ECommerce!G16+APP_AD_SUPPORTED!G16+LINKEDIN_SOCIAL_SELLING!G25 -> 188.85829 | H6: ='WEB_Search Display'!H16+EMAIL_MARKETING!H20+WEB_ORGANIC!H12+PAID_SOCIAL_ECommerce!H16+APP_AD_SUPPORTED!H16+LINKEDIN_SOCIAL_SELLING!H25 -> 239.56132 | I6: ='WEB_Search Display'!I16+EMAIL_MARKETING!I20+WEB_ORGANIC!I12+PAID_SOCIAL_ECommerce!I16+APP_AD_SUPPORTED!I16+LINKEDIN_SOCIAL_SELLING!I25 -> 252.66617 | J6: ='WEB_Search Display'!J16+EMAIL_MARKETING!J20+WEB_ORGANIC!J12+PAID_SOCIAL_ECommerce!J16+APP_AD_SUPPORTED!J16+LINKEDIN_SOCIAL_SELLING!J25 -> 266.22407 | K6: ='WEB_Search Display'!K16+EMAIL_MARKETING!K20+WEB_ORGANIC!K12+PAID_SOCIAL_ECommerce!K16+APP_AD_SUPPORTED!K16+LINKEDIN_SOCIAL_SELLING!K25 -> 242.68774 | ... O6: ='WEB_Search Display'!O16+EMAIL_MARKETING!O20+WEB_ORGANIC!O12+PAID_SOCIAL_ECommerce!O16+APP_AD_SUPPORTED!O16+LINKEDIN_SOCIAL_SELLING!O25 -> 189.92769 | P6: =SUM(D6:O6) -> 2225.0976
C7: CHURN RATE | D7: =E7 -> 0.1546751 | E7: =IFERROR(E6/E8,0) -> 0.1546751 | F7: =IFERROR(F6/F8,0) -> 0.14566171 | G7: =IFERROR(G6/G8,0) -> 0.13950555 | H7: =IFERROR(H6/H8,0) -> 0.12905225 | I7: =IFERROR(I6/I8,0) -> 0.1240678 | J7: =IFERROR(J6/J8,0) -> 0.11918971 | K7: =IFERROR(K6/K8,0) -> 0.11045532 | L7: =IFERROR(L6/L8,0) -> 0.10169209 | ... O7: =IFERROR(O6/O8,0) -> 0.076004591 | P7: =SUM(D7:O7) -> 1.4297418
C8: CUSTOMER BASE B.P. | D8: ='WEB_Search Display'!D18+EMAIL_MARKETING!D22+WEB_ORGANIC!D14+PAID_SOCIAL_ECommerce!D18+APP_AD_SUPPORTED!D18+LINKEDIN_SOCIAL_SELLING!D27 -> 0 | E8: ='WEB_Search Display'!E18+EMAIL_MARKETING!E22+WEB_ORGANIC!E14+PAID_SOCIAL_ECommerce!E18+APP_AD_SUPPORTED!E18+LINKEDIN_SOCIAL_SELLING!E27 -> 508.69091 | F8: ='WEB_Search Display'!F18+EMAIL_MARKETING!F22+WEB_ORGANIC!F14+PAID_SOCIAL_ECommerce!F18+APP_AD_SUPPORTED!F18+LINKEDIN_SOCIAL_SELLING!F27 -> 945.16458 | G8: ='WEB_Search Display'!G18+EMAIL_MARKETING!G22+WEB_ORGANIC!G14+PAID_SOCIAL_ECommerce!G18+APP_AD_SUPPORTED!G18+LINKEDIN_SOCIAL_SELLING!G27 -> 1353.769 | H8: ='WEB_Search Display'!H18+EMAIL_MARKETING!H22+WEB_ORGANIC!H14+PAID_SOCIAL_ECommerce!H18+APP_AD_SUPPORTED!H18+LINKEDIN_SOCIAL_SELLING!H27 -> 1856.3126 | I8: ='WEB_Search Display'!I18+EMAIL_MARKETING!I22+WEB_ORGANIC!I14+PAID_SOCIAL_ECommerce!I18+APP_AD_SUPPORTED!I18+LINKEDIN_SOCIAL_SELLING!I27 -> 2036.5168 | J8: ='WEB_Search Display'!J18+EMAIL_MARKETING!J22+WEB_ORGANIC!J14+PAID_SOCIAL_ECommerce!J18+APP_AD_SUPPORTED!J18+LINKEDIN_SOCIAL_SELLING!J27 -> 2233.6162 | K8: ='WEB_Search Display'!K18+EMAIL_MARKETING!K22+WEB_ORGANIC!K14+PAID_SOCIAL_ECommerce!K18+APP_AD_SUPPORTED!K18+LINKEDIN_SOCIAL_SELLING!K27 -> 2197.1576 | ... O8: ='WEB_Search Display'!O18+EMAIL_MARKETING!O22+WEB_ORGANIC!O14+PAID_SOCIAL_ECommerce!O18+APP_AD_SUPPORTED!O18+LINKEDIN_SOCIAL_SELLING!O27 -> 2498.8976 | P8: =D8 -> 0
C9: CUSTOMER BASE E.P. | D9: ='WEB_Search Display'!D19+EMAIL_MARKETING!D23+WEB_ORGANIC!D15+PAID_SOCIAL_ECommerce!D19+APP_AD_SUPPORTED!D19+LINKEDIN_SOCIAL_SELLING!D28 -> 508.69091 | E9: ='WEB_Search Display'!E19+EMAIL_MARKETING!E23+WEB_ORGANIC!E15+PAID_SOCIAL_ECommerce!E19+APP_AD_SUPPORTED!E19+LINKEDIN_SOCIAL_SELLING!E28 -> 945.16458 | F9: ='WEB_Search Display'!F19+EMAIL_MARKETING!F23+WEB_ORGANIC!F15+PAID_SOCIAL_ECommerce!F19+APP_AD_SUPPORTED!F19+LINKEDIN_SOCIAL_SELLING!F28 -> 1353.769 | G9: ='WEB_Search Display'!G19+EMAIL_MARKETING!G23+WEB_ORGANIC!G15+PAID_SOCIAL_ECommerce!G19+APP_AD_SUPPORTED!G19+LINKEDIN_SOCIAL_SELLING!G28 -> 1856.3126 | H9: ='WEB_Search Display'!H19+EMAIL_MARKETING!H23+WEB_ORGANIC!H15+PAID_SOCIAL_ECommerce!H19+APP_AD_SUPPORTED!H19+LINKEDIN_SOCIAL_SELLING!H28 -> 2036.5168 | I9: ='WEB_Search Display'!I19+EMAIL_MARKETING!I23+WEB_ORGANIC!I15+PAID_SOCIAL_ECommerce!I19+APP_AD_SUPPORTED!I19+LINKEDIN_SOCIAL_SELLING!I28 -> 2233.6162 | J9: ='WEB_Search Display'!J19+EMAIL_MARKETING!J23+WEB_ORGANIC!J15+PAID_SOCIAL_ECommerce!J19+APP_AD_SUPPORTED!J19+LINKEDIN_SOCIAL_SELLING!J28 -> 2197.1576 | K9: ='WEB_Search Display'!K19+EMAIL_MARKETING!K23+WEB_ORGANIC!K15+PAID_SOCIAL_ECommerce!K19+APP_AD_SUPPORTED!K19+LINKEDIN_SOCIAL_SELLING!K28 -> 2214.2354 | ... O9: ='WEB_Search Display'!O19+EMAIL_MARKETING!O23+WEB_ORGANIC!O15+PAID_SOCIAL_ECommerce!O19+APP_AD_SUPPORTED!O19+LINKEDIN_SOCIAL_SELLING!O28 -> 2673.4627 | P9: =O9 -> 2673.4627
C10: AVERAGE CUSTOMER BASE | D10: ='WEB_Search Display'!D20+EMAIL_MARKETING!D24+WEB_ORGANIC!D16+PAID_SOCIAL_ECommerce!D20+APP_AD_SUPPORTED!D20 -> 254.34545 | E10: ='WEB_Search Display'!E20+EMAIL_MARKETING!E24+WEB_ORGANIC!E16+PAID_SOCIAL_ECommerce!E20+APP_AD_SUPPORTED!E20 -> 686.46364 | F10: ='WEB_Search Display'!F20+EMAIL_MARKETING!F24+WEB_ORGANIC!F16+PAID_SOCIAL_ECommerce!F20+APP_AD_SUPPORTED!F20 -> 1076.7434 | G10: ='WEB_Search Display'!G20+EMAIL_MARKETING!G24+WEB_ORGANIC!G16+PAID_SOCIAL_ECommerce!G20+APP_AD_SUPPORTED!G20 -> 1502.9056 | H10: ='WEB_Search Display'!H20+EMAIL_MARKETING!H24+WEB_ORGANIC!H16+PAID_SOCIAL_ECommerce!H20+APP_AD_SUPPORTED!H20 -> 1814.6342 | I10: ='WEB_Search Display'!I20+EMAIL_MARKETING!I24+WEB_ORGANIC!I16+PAID_SOCIAL_ECommerce!I20+APP_AD_SUPPORTED!I20 -> 1992.5257 | J10: ='WEB_Search Display'!J20+EMAIL_MARKETING!J24+WEB_ORGANIC!J16+PAID_SOCIAL_ECommerce!J20+APP_AD_SUPPORTED!J20 -> 2061.9435 | K10: ='WEB_Search Display'!K20+EMAIL_MARKETING!K24+WEB_ORGANIC!K16+PAID_SOCIAL_ECommerce!K20+APP_AD_SUPPORTED!K20 -> 2059.98 | ... O10: ='WEB_Search Display'!O20+EMAIL_MARKETING!O24+WEB_ORGANIC!O16+PAID_SOCIAL_ECommerce!O20+APP_AD_SUPPORTED!O20 -> 2451.4709 | P10: =O10 -> 2451.4709
C11: % var | E11: =IFERROR(E10/D10-1,0) -> 1.698942 | F11: =IFERROR(F10/E10-1,0) -> 0.56853664 | G11: =IFERROR(G10/F10-1,0) -> 0.39578811 | H11: =IFERROR(H10/G10-1,0) -> 0.20741732 | I11: =IFERROR(I10/H10-1,0) -> 0.098031594 | J11: =IFERROR(J10/I10-1,0) -> 0.034839067 | K11: =IFERROR(K10/J10-1,0) -> -0.00095223568 | L11: =IFERROR(L10/K10-1,0) -> 0.01844606 | ... O11: =IFERROR(O10/N10-1,0) -> 0.067884359
B13: REVENUES | C13: REVENUE PER CUSTOMER | D13: =D14/D10 -> 3.8050611 | E13: =E14/E10 -> 3.8070188 | F13: =F14/F10 -> 4.0960206 | G13: =G14/G10 -> 4.3946167 | H13: =H14/H10 -> 4.7005394 | I13: =I14/I10 -> 5.0374093 | J13: =J14/J10 -> 5.590185 | K13: =K14/K10 -> 6.3189587 | ... O13: =O14/O10 -> 7.5557792 | P13: =AVERAGE(D13:O13) -> 5.5450044
C14: TOTAL REVENUES | D14: ='WEB_Search Display'!D26+EMAIL_MARKETING!D30+WEB_ORGANIC!D22+PAID_SOCIAL_ECommerce!D26+APP_AD_SUPPORTED!D26+LINKEDIN_SOCIAL_SELLING!D35 -> 967.8 | E14: ='WEB_Search Display'!E26+EMAIL_MARKETING!E30+WEB_ORGANIC!E22+PAID_SOCIAL_ECommerce!E26+APP_AD_SUPPORTED!E26+LINKEDIN_SOCIAL_SELLING!E35 -> 2613.38 | F14: ='WEB_Search Display'!F26+EMAIL_MARKETING!F30+WEB_ORGANIC!F22+PAID_SOCIAL_ECommerce!F26+APP_AD_SUPPORTED!F26+LINKEDIN_SOCIAL_SELLING!F35 -> 4410.363 | G14: ='WEB_Search Display'!G26+EMAIL_MARKETING!G30+WEB_ORGANIC!G22+PAID_SOCIAL_ECommerce!G26+APP_AD_SUPPORTED!G26+LINKEDIN_SOCIAL_SELLING!G35 -> 6604.694 | H14: ='WEB_Search Display'!H26+EMAIL_MARKETING!H30+WEB_ORGANIC!H22+PAID_SOCIAL_ECommerce!H26+APP_AD_SUPPORTED!H26+LINKEDIN_SOCIAL_SELLING!H35 -> 8529.7596 | I14: ='WEB_Search Display'!I26+EMAIL_MARKETING!I30+WEB_ORGANIC!I22+PAID_SOCIAL_ECommerce!I26+APP_AD_SUPPORTED!I26+LINKEDIN_SOCIAL_SELLING!I35 -> 10037.168 | J14: ='WEB_Search Display'!J26+EMAIL_MARKETING!J30+WEB_ORGANIC!J22+PAID_SOCIAL_ECommerce!J26+APP_AD_SUPPORTED!J26+LINKEDIN_SOCIAL_SELLING!J35 -> 11526.645 | K14: ='WEB_Search Display'!K26+EMAIL_MARKETING!K30+WEB_ORGANIC!K22+PAID_SOCIAL_ECommerce!K26+APP_AD_SUPPORTED!K26+LINKEDIN_SOCIAL_SELLING!K35 -> 13016.928 | ... O14: ='WEB_Search Display'!O26+EMAIL_MARKETING!O30+WEB_ORGANIC!O22+PAID_SOCIAL_ECommerce!O26+APP_AD_SUPPORTED!O26+LINKEDIN_SOCIAL_SELLING!O35 -> 18522.773 | P14: =SUM(D14:O14) -> 122787.02
C15: % var | E15: =E14/D14-1 -> 1.7003306 | F15: =F14/E14-1 -> 0.68760877 | G15: =G14/F14-1 -> 0.49753977 | H15: =H14/G14-1 -> 0.29146932 | I15: =I14/H14-1 -> 0.17672338 | J15: =J14/I14-1 -> 0.14839622 | K15: =K14/J14-1 -> 0.12929028 | L15: =L14/K14-1 -> 0.093667344 | ... O15: =O14/N14-1 -> 0.096890451
B17: MARKETING EXPENSES | C17: BUDGET | D17: ='WEB_Search Display'!D5+EMAIL_MARKETING!D5+WEB_ORGANIC!D5+PAID_SOCIAL_ECommerce!D5+APP_AD_SUPPORTED!D5+EMAIL_MARKETING!D5+LINKEDIN_SOCIAL_SELLING!D5 -> 2920 | E17: ='WEB_Search Display'!E5+EMAIL_MARKETING!E5+WEB_ORGANIC!E5+PAID_SOCIAL_ECommerce!E5+APP_AD_SUPPORTED!E5+EMAIL_MARKETING!E5+LINKEDIN_SOCIAL_SELLING!E5 -> 4480 | F17: ='WEB_Search Display'!F5+EMAIL_MARKETING!F5+WEB_ORGANIC!F5+PAID_SOCIAL_ECommerce!F5+APP_AD_SUPPORTED!F5+EMAIL_MARKETING!F5+LINKEDIN_SOCIAL_SELLING!F5 -> 4480 | G17: ='WEB_Search Display'!G5+EMAIL_MARKETING!G5+WEB_ORGANIC!G5+PAID_SOCIAL_ECommerce!G5+APP_AD_SUPPORTED!G5+EMAIL_MARKETING!G5+LINKEDIN_SOCIAL_SELLING!G5 -> 12480 | H17: ='WEB_Search Display'!H5+EMAIL_MARKETING!H5+WEB_ORGANIC!H5+PAID_SOCIAL_ECommerce!H5+APP_AD_SUPPORTED!H5+EMAIL_MARKETING!H5+LINKEDIN_SOCIAL_SELLING!H5 -> 2880 | I17: ='WEB_Search Display'!I5+EMAIL_MARKETING!I5+WEB_ORGANIC!I5+PAID_SOCIAL_ECommerce!I5+APP_AD_SUPPORTED!I5+EMAIL_MARKETING!I5+LINKEDIN_SOCIAL_SELLING!I5 -> 2880 | J17: ='WEB_Search Display'!J5+EMAIL_MARKETING!J5+WEB_ORGANIC!J5+PAID_SOCIAL_ECommerce!J5+APP_AD_SUPPORTED!J5+EMAIL_MARKETING!J5+LINKEDIN_SOCIAL_SELLING!J5 -> 2380 | K17: ='WEB_Search Display'!K5+EMAIL_MARKETING!K5+WEB_ORGANIC!K5+PAID_SOCIAL_ECommerce!K5+APP_AD_SUPPORTED!K5+EMAIL_MARKETING!K5+LINKEDIN_SOCIAL_SELLING!K5 -> 2380 | ... O17: ='WEB_Search Display'!O5+EMAIL_MARKETING!O5+WEB_ORGANIC!O5+PAID_SOCIAL_ECommerce!O5+APP_AD_SUPPORTED!O5+EMAIL_MARKETING!O5+LINKEDIN_SOCIAL_SELLING!O5 -> 1780 | P17: =SUM(D17:O17) -> 42000
C18: Year distribution % | D18: =IFERROR(D17/$P$17,0) -> 0.06952381 | E18: =IFERROR(E17/$P$17,0) -> 0.10666667 | F18: =IFERROR(F17/$P$17,0) -> 0.10666667 | G18: =IFERROR(G17/$P$17,0) -> 0.29714286 | H18: =IFERROR(H17/$P$17,0) -> 0.068571429 | I18: =IFERROR(I17/$P$17,0) -> 0.068571429 | J18: =IFERROR(J17/$P$17,0) -> 0.056666667 | K18: =IFERROR(K17/$P$17,0) -> 0.056666667 | ... P18: =IFERROR(P17/$P$17,0) -> 1
B20: KPI'S | C20: CUSTOMER LIFE TIME | D20: =IFERROR(1/D7,0) -> 6.4651646 | E20: =IFERROR(1/E7,0) -> 6.4651646 | F20: =IFERROR(1/F7,0) -> 6.865222 | G20: =IFERROR(1/G7,0) -> 7.1681735 | H20: =IFERROR(1/H7,0) -> 7.7487994 | I20: =IFERROR(1/I7,0) -> 8.0601088 | J20: =IFERROR(1/J7,0) -> 8.3899857 | K20: =IFERROR(1/K7,0) -> 9.0534347 | ... P20: =IFERROR(1/P7,0) -> 0.69942699
C21: ARPU | D21: =D14/D10 -> 3.8050611 | E21: =E14/E10 -> 3.8070188 | F21: =F14/F10 -> 4.0960206 | G21: =G14/G10 -> 4.3946167 | H21: =H14/H10 -> 4.7005394 | I21: =I14/I10 -> 5.0374093 | J21: =J14/J10 -> 5.590185 | K21: =K14/K10 -> 6.3189587 | ... P21: =P14/P10 -> 50.087078
C22: LIFE TIME VALUE | D22: =D20*D21 -> 24.600347 | E22: =E20*E21 -> 24.613004 | F22: =F20*F21 -> 28.120091 | G22: =G20*G21 -> 31.501375 | H22: =H20*H21 -> 36.423537 | I22: =I20*I21 -> 40.602067 | J22: =J20*J21 -> 46.901572 | K22: =K20*K21 -> 57.20828 | ... P22: =P20*P21 -> 35.032254
C23: SAC | D23: =D17/D5 -> 5.7402245 | E23: =E17/E5 -> 8.6964035 | F23: =F17/F5 -> 8.2009423 | G23: =G17/G5 -> 18.050283 | H23: =H17/H5 -> 6.8609731 | I23: =I17/I5 -> 6.4033365 | J23: =J17/J5 -> 10.358386 | K23: =K17/K5 -> 9.1621087 | ... P23: =P17/P5 -> 8.5739478
C24: ROI | D24: =IF(D23>0,(D22-D23)/D23,0) -> 3.2856071 | E24: =IF(E23>0,(E22-E23)/E23,0) -> 1.8302509 | F24: =IF(F23>0,(F22-F23)/F23,0) -> 2.4288854 | G24: =IF(G23>0,(G22-G23)/G23,0) -> 0.74520113 | H24: =IF(H23>0,(H22-H23)/H23,0) -> 4.3088004 | I24: =IF(I23>0,(I22-I23)/I23,0) -> 5.3407674 | J24: =IF(J23>0,(J22-J23)/J23,0) -> 3.5278842 | K24: =IF(K23>0,(K22-K23)/K23,0) -> 5.244008 | ... P24: =IF(P23>0,(P22-P23)/P23,0) -> 3.0858955
C25: PAYBACK | D25: =IFERROR(D22/D23,0) -> 4.2856071 | E25: =IFERROR(E22/E23,0) -> 2.8302509 | F25: =IFERROR(F22/F23,0) -> 3.4288854 | G25: =IFERROR(G22/G23,0) -> 1.7452011 | H25: =IFERROR(H22/H23,0) -> 5.3088004 | I25: =IFERROR(I22/I23,0) -> 6.3407674 | J25: =IFERROR(J22/J23,0) -> 4.5278842 | K25: =IFERROR(K22/K23,0) -> 6.244008 | ... O25: =IFERROR(O22/O23,0) -> 20.356747 | P25: =SUM(D25:O25) -> 95.229494

Sheet LINKEDIN_SOCIAL_SELLING
B1: LINKEDIN SOCIAL SELLING (B2B SUBSCRIPTION)
B2: FISCAL YEAR START DATE | C2: =TODAY() -> 46317
B3: SCENARIO (1=Conservative 2=Base 3=Optimistic) | D3: 3 | E3: =CHOOSE($D$3,"Conservative","Base","Optimistic") -> Optimistic
D4: =C2 -> 46317 | E4: =DATE(YEAR(D4),MONTH(D4)+1,1) -> 46327 | F4: =DATE(YEAR(E4),MONTH(E4)+1,1) -> 46357 | G4: =DATE(YEAR(F4),MONTH(F4)+1,1) -> 46388 | H4: =DATE(YEAR(G4),MONTH(G4)+1,1) -> 46419 | I4: =DATE(YEAR(H4),MONTH(H4)+1,1) -> 46447 | J4: =DATE(YEAR(I4),MONTH(I4)+1,1) -> 46478 | K4: =DATE(YEAR(J4),MONTH(J4)+1,1) -> 46508 | L4: =DATE(YEAR(K4),MONTH(K4)+1,1) -> 46539 | ... O4: =DATE(YEAR(N4),MONTH(N4)+1,1) -> 46631 | P4: TOTAL
B5: LINKEDIN FUNNEL | C5: INVESTMENT (labour + tools) | D5: =D6+D7 -> 1780 | E5: =E6+E7 -> 1780 | F5: =F6+F7 -> 1780 | G5: =G6+G7 -> 1780 | H5: =H6+H7 -> 1780 | I5: =I6+I7 -> 1780 | J5: =J6+J7 -> 1780 | K5: =K6+K7 -> 1780 | ... O5: =O6+O7 -> 1780 | P5: =SUM(D5:O5) -> 21360
C6: Labour (hours × €/h) | D6: =$G$48*$G$50*$G$51 -> 1600 | E6: =$G$48*$G$50*$G$51 -> 1600 | F6: =$G$48*$G$50*$G$51 -> 1600 | G6: =$G$48*$G$50*$G$51 -> 1600 | H6: =$G$48*$G$50*$G$51 -> 1600 | I6: =$G$48*$G$50*$G$51 -> 1600 | J6: =$G$48*$G$50*$G$51 -> 1600 | K6: =$G$48*$G$50*$G$51 -> 1600 | ... O6: =$G$48*$G$50*$G$51 -> 1600 | P6: =SUM(D6:O6) -> 19200
C7: Tools (Sales Navigator + automation) | D7: =$G$48*$G$52 -> 180 | E7: =$G$48*$G$52 -> 180 | F7: =$G$48*$G$52 -> 180 | G7: =$G$48*$G$52 -> 180 | H7: =$G$48*$G$52 -> 180 | I7: =$G$48*$G$52 -> 180 | J7: =$G$48*$G$52 -> 180 | K7: =$G$48*$G$52 -> 180 | ... O7: =$G$48*$G$52 -> 180 | P7: =SUM(D7:O7) -> 2160
C8: RAMP-UP FACTOR (account warm-up) | D8: 0.5 | E8: 0.75 | F8: 1 | G8: 1 | H8: 1 | I8: 1 | J8: 1 | K8: 1 | L8: 1 | M8: 1 | N8: 1 | O8: 1 | P8: =AVERAGE(D8:O8) -> 0.9375
C9: INVITATIONS SENT | D9: =$G$48*$G$49*52/12*D8 -> 433.33333 | E9: =$G$48*$G$49*52/12*E8 -> 650 | F9: =$G$48*$G$49*52/12*F8 -> 866.66667 | G9: =$G$48*$G$49*52/12*G8 -> 866.66667 | H9: =$G$48*$G$49*52/12*H8 -> 866.66667 | I9: =$G$48*$G$49*52/12*I8 -> 866.66667 | J9: =$G$48*$G$49*52/12*J8 -> 866.66667 | K9: =$G$48*$G$49*52/12*K8 -> 866.66667 | ... O9: =$G$48*$G$49*52/12*O8 -> 866.66667 | P9: =SUM(D9:O9) -> 9750
C10: ACCEPTANCE RATE % | D10: =$G$53 -> 0.45 | E10: =$G$53 -> 0.45 | F10: =$G$53 -> 0.45 | G10: =$G$53 -> 0.45 | H10: =$G$53 -> 0.45 | I10: =$G$53 -> 0.45 | J10: =$G$53 -> 0.45 | K10: =$G$53 -> 0.45 | ... O10: =$G$53 -> 0.45 | P10: =AVERAGE(D10:O10) -> 0.45
C11: CONNECTIONS ACCEPTED | D11: =D9*D10 -> 195 | E11: =E9*E10 -> 292.5 | F11: =F9*F10 -> 390 | G11: =G9*G10 -> 390 | H11: =H9*H10 -> 390 | I11: =I9*I10 -> 390 | J11: =J9*J10 -> 390 | K11: =K9*K10 -> 390 | ... O11: =O9*O10 -> 390 | P11: =SUM(D11:O11) -> 4387.5
C12: REPLY RATE % (of accepted) | D12: =$G$54 -> 0.2 | E12: =$G$54 -> 0.2 | F12: =$G$54 -> 0.2 | G12: =$G$54 -> 0.2 | H12: =$G$54 -> 0.2 | I12: =$G$54 -> 0.2 | J12: =$G$54 -> 0.2 | K12: =$G$54 -> 0.2 | ... O12: =$G$54 -> 0.2 | P12: =AVERAGE(D12:O12) -> 0.2
C13: CONVERSATIONS | D13: =D11*D12 -> 39 | E13: =E11*E12 -> 58.5 | F13: =F11*F12 -> 78 | G13: =G11*G12 -> 78 | H13: =H11*H12 -> 78 | I13: =I11*I12 -> 78 | J13: =J11*J12 -> 78 | K13: =K11*K12 -> 78 | ... O13: =O11*O12 -> 78 | P13: =SUM(D13:O13) -> 877.5
C14: REPLY → MEETING RATE % | D14: =$G$55 -> 0.4 | E14: =$G$55 -> 0.4 | F14: =$G$55 -> 0.4 | G14: =$G$55 -> 0.4 | H14: =$G$55 -> 0.4 | I14: =$G$55 -> 0.4 | J14: =$G$55 -> 0.4 | K14: =$G$55 -> 0.4 | ... O14: =$G$55 -> 0.4 | P14: =AVERAGE(D14:O14) -> 0.4
C15: MEETINGS BOOKED | D15: =D13*D14 -> 15.6 | E15: =E13*E14 -> 23.4 | F15: =F13*F14 -> 31.2 | G15: =G13*G14 -> 31.2 | H15: =H13*H14 -> 31.2 | I15: =I13*I14 -> 31.2 | J15: =J13*J14 -> 31.2 | K15: =K13*K14 -> 31.2 | ... O15: =O13*O14 -> 31.2 | P15: =SUM(D15:O15) -> 351
C16: SHOW RATE % | D16: =$G$56 -> 0.8 | E16: =$G$56 -> 0.8 | F16: =$G$56 -> 0.8 | G16: =$G$56 -> 0.8 | H16: =$G$56 -> 0.8 | I16: =$G$56 -> 0.8 | J16: =$G$56 -> 0.8 | K16: =$G$56 -> 0.8 | ... O16: =$G$56 -> 0.8 | P16: =AVERAGE(D16:O16) -> 0.8
C17: MEETINGS HELD | D17: =D15*D16 -> 12.48 | E17: =E15*E16 -> 18.72 | F17: =F15*F16 -> 24.96 | G17: =G15*G16 -> 24.96 | H17: =H15*H16 -> 24.96 | I17: =I15*I16 -> 24.96 | J17: =J15*J16 -> 24.96 | K17: =K15*K16 -> 24.96 | ... O17: =O15*O16 -> 24.96 | P17: =SUM(D17:O17) -> 280.8
C18: OPPORTUNITY RATE % (qualified) | D18: =$G$57 -> 0.6 | E18: =$G$57 -> 0.6 | F18: =$G$57 -> 0.6 | G18: =$G$57 -> 0.6 | H18: =$G$57 -> 0.6 | I18: =$G$57 -> 0.6 | J18: =$G$57 -> 0.6 | K18: =$G$57 -> 0.6 | ... O18: =$G$57 -> 0.6 | P18: =AVERAGE(D18:O18) -> 0.6
C19: OPPORTUNITIES | D19: =D17*D18 -> 7.488 | E19: =E17*E18 -> 11.232 | F19: =F17*F18 -> 14.976 | G19: =G17*G18 -> 14.976 | H19: =H17*H18 -> 14.976 | I19: =I17*I18 -> 14.976 | J19: =J17*J18 -> 14.976 | K19: =K17*K18 -> 14.976 | ... O19: =O17*O18 -> 14.976 | P19: =SUM(D19:O19) -> 168.48
C20: CLOSE RATE % | D20: =$G$58 -> 0.3 | E20: =$G$58 -> 0.3 | F20: =$G$58 -> 0.3 | G20: =$G$58 -> 0.3 | H20: =$G$58 -> 0.3 | I20: =$G$58 -> 0.3 | J20: =$G$58 -> 0.3 | K20: =$G$58 -> 0.3 | ... O20: =$G$58 -> 0.3 | P20: =AVERAGE(D20:O20) -> 0.3
C21: CUSTOMERS WON (1-month sales cycle) | D21: 0 | E21: =D19*E20 -> 2.2464 | F21: =E19*F20 -> 3.3696 | G21: =F19*G20 -> 4.4928 | H21: =G19*H20 -> 4.4928 | I21: =H19*I20 -> 4.4928 | J21: =I19*J20 -> 4.4928 | K21: =J19*K20 -> 4.4928 | L21: =K19*L20 -> 4.4928 | ... O21: =N19*O20 -> 4.4928 | P21: =SUM(D21:O21) -> 46.0512
C22: CPA / CAC (investment ÷ customers) | D22: =IFERROR(D5/D21,0) -> 0 | E22: =IFERROR(E5/E21,0) -> 792.37892 | F22: =IFERROR(F5/F21,0) -> 528.25261 | G22: =IFERROR(G5/G21,0) -> 396.18946 | H22: =IFERROR(H5/H21,0) -> 396.18946 | I22: =IFERROR(I5/I21,0) -> 396.18946 | J22: =IFERROR(J5/J21,0) -> 396.18946 | K22: =IFERROR(K5/K21,0) -> 396.18946 | ... P22: =IFERROR(P5/P21,0) -> 463.83156
B24: CUSTOMER BASE | C24: NEW ADDS | D24: =D21 -> 0 | E24: =E21 -> 2.2464 | F24: =F21 -> 3.3696 | G24: =G21 -> 4.4928 | H24: =H21 -> 4.4928 | I24: =I21 -> 4.4928 | J24: =J21 -> 4.4928 | K24: =K21 -> 4.4928 | ... O24: =O21 -> 4.4928 | P24: =SUM(D24:O24) -> 46.0512
C25: LOSSES | E25: =E26*E27 -> 0 | F25: =F26*F27 -> 0.044928 | G25: =G26*G27 -> 0.11142144 | H25: =H26*H27 -> 0.19904901 | I25: =I26*I27 -> 0.28492403 | J25: =J26*J27 -> 0.36908155 | K25: =K26*K27 -> 0.45155592 | L25: =L26*L27 -> 0.5323808 | ... O25: =O26*O27 -> 0.76528513 | P25: =SUM(D25:O25) -> 4.0594285
C26: MONTHLY CHURN RATE | D26: =$G$60 -> 0.02 | E26: =$G$60 -> 0.02 | F26: =$G$60 -> 0.02 | G26: =$G$60 -> 0.02 | H26: =$G$60 -> 0.02 | I26: =$G$60 -> 0.02 | J26: =$G$60 -> 0.02 | K26: =$G$60 -> 0.02 | ... O26: =$G$60 -> 0.02 | P26: =AVERAGE(D26:O26) -> 0.02
C27: CUSTOMER BASE B.P. | D27: 0 | E27: =D28 -> 0 | F27: =E28 -> 2.2464 | G27: =F28 -> 5.571072 | H27: =G28 -> 9.9524506 | I27: =H28 -> 14.246202 | J27: =I28 -> 18.454078 | K27: =J28 -> 22.577796 | L27: =K28 -> 26.61904 | ... O27: =N28 -> 38.264257 | P27: =D27 -> 0
C28: CUSTOMER BASE E.P. | D28: =D27+D24-D25 -> 0 | E28: =E27+E24-E25 -> 2.2464 | F28: =F27+F24-F25 -> 5.571072 | G28: =G27+G24-G25 -> 9.9524506 | H28: =H27+H24-H25 -> 14.246202 | I28: =I27+I24-I25 -> 18.454078 | J28: =J27+J24-J25 -> 22.577796 | K28: =K27+K24-K25 -> 26.61904 | ... O28: =O27+O24-O25 -> 41.991772 | P28: =O28 -> 41.991772
C29: AVERAGE CUSTOMER BASE | D29: =D28/2 -> 0 | E29: =(D28-E25)+(E24/2) -> 1.1232 | F29: =(E28-F25)+(F24/2) -> 3.886272 | G29: =(F28-G25)+(G24/2) -> 7.7060506 | H29: =(G28-H25)+(H24/2) -> 11.999802 | I29: =(H28-I25)+(I24/2) -> 16.207678 | J29: =(I28-J25)+(J24/2) -> 20.331396 | K29: =(J28-K25)+(K24/2) -> 24.37264 | L29: =(K28-L25)+(L24/2) -> 28.333059 | ... O29: =(N28-O25)+(O24/2) -> 39.745372 | P29: =O29 -> 39.745372
C30: % var | E30: =IFERROR(E29/D29-1,0) -> 0 | F30: =IFERROR(F29/E29-1,0) -> 2.46 | G30: =IFERROR(G29/F29-1,0) -> 0.98289017 | H30: =IFERROR(H29/G29-1,0) -> 0.55719216 | I30: =IFERROR(I29/H29-1,0) -> 0.35066213 | J30: =IFERROR(J29/I29-1,0) -> 0.25442994 | K30: =IFERROR(K29/J29-1,0) -> 0.19876865 | L30: =IFERROR(L29/K29-1,0) -> 0.16249447 | ... O30: =IFERROR(O29/N29-1,0) -> 0.10349075
B32: REVENUES | C32: MONTHLY SUBSCRIPTION PRICE (€) | D32: =$G$59 -> 250 | E32: =$G$59 -> 250 | F32: =$G$59 -> 250 | G32: =$G$59 -> 250 | H32: =$G$59 -> 250 | I32: =$G$59 -> 250 | J32: =$G$59 -> 250 | K32: =$G$59 -> 250 | ... O32: =$G$59 -> 250 | P32: =AVERAGE(D32:O32) -> 250
C33: BILLINGS per PERIOD | D33: 1 | E33: 1 | F33: 1 | G33: 1 | H33: 1 | I33: 1 | J33: 1 | K33: 1 | L33: 1 | M33: 1 | N33: 1 | O33: 1 | P33: =AVERAGE(D33:O33) -> 1
C34: REVENUES PER USER | D34: =D32*D33 -> 250 | E34: =E32*E33 -> 250 | F34: =F32*F33 -> 250 | G34: =G32*G33 -> 250 | H34: =H32*H33 -> 250 | I34: =I32*I33 -> 250 | J34: =J32*J33 -> 250 | K34: =K32*K33 -> 250 | ... O34: =O32*O33 -> 250 | P34: =AVERAGE(D34:O34) -> 250
C35: TOTAL REVENUES | D35: =D34*D29 -> 0 | E35: =E34*E29 -> 280.8 | F35: =F34*F29 -> 971.568 | G35: =G34*G29 -> 1926.5126 | H35: =H34*H29 -> 2999.9504 | I35: =I34*I29 -> 4051.9194 | J35: =J34*J29 -> 5082.849 | K35: =K34*K29 -> 6093.16 | ... O35: =O34*O29 -> 9936.3429 | P35: =SUM(D35:O35) -> 55484.399
B37: KPI'S | C37: CUSTOMER LIFE TIME (months) | D37: =IFERROR(1/D26,0) -> 50 | E37: =IFERROR(1/E26,0) -> 50 | F37: =IFERROR(1/F26,0) -> 50 | G37: =IFERROR(1/G26,0) -> 50 | H37: =IFERROR(1/H26,0) -> 50 | I37: =IFERROR(1/I26,0) -> 50 | J37: =IFERROR(1/J26,0) -> 50 | K37: =IFERROR(1/K26,0) -> 50 | ... P37: =IFERROR(1/P26,0) -> 50
C38: ARPU (monthly) | D38: =D34 -> 250 | E38: =E34 -> 250 | F38: =F34 -> 250 | G38: =G34 -> 250 | H38: =H34 -> 250 | I38: =I34 -> 250 | J38: =J34 -> 250 | K38: =K34 -> 250 | ... O38: =O34 -> 250 | P38: =AVERAGE(D38:O38) -> 250
C39: LIFE TIME VALUE | D39: =D37*D38 -> 12500 | E39: =E37*E38 -> 12500 | F39: =F37*F38 -> 12500 | G39: =G37*G38 -> 12500 | H39: =H37*H38 -> 12500 | I39: =I37*I38 -> 12500 | J39: =J37*J38 -> 12500 | K39: =K37*K38 -> 12500 | ... P39: =P37*P38 -> 12500
C40: SAC | D40: =D22 -> 0 | E40: =E22 -> 792.37892 | F40: =F22 -> 528.25261 | G40: =G22 -> 396.18946 | H40: =H22 -> 396.18946 | I40: =I22 -> 396.18946 | J40: =J22 -> 396.18946 | K40: =K22 -> 396.18946 | ... P40: =P22 -> 463.83156
C41: ROI | D41: =IF(D40>0,(D39-D40)/D40,0) -> 0 | E41: =IF(E40>0,(E39-E40)/E40,0) -> 14.775281 | F41: =IF(F40>0,(F39-F40)/F40,0) -> 22.662921 | G41: =IF(G40>0,(G39-G40)/G40,0) -> 30.550562 | H41: =IF(H40>0,(H39-H40)/H40,0) -> 30.550562 | I41: =IF(I40>0,(I39-I40)/I40,0) -> 30.550562 | J41: =IF(J40>0,(J39-J40)/J40,0) -> 30.550562 | K41: =IF(K40>0,(K39-K40)/K40,0) -> 30.550562 | ... P41: =IF(P40>0,(P39-P40)/P40,0) -> 25.949438
C42: PAYBACK (months of ARPU) | D42: =IFERROR(D40/D38,0) -> 0 | E42: =IFERROR(E40/E38,0) -> 3.1695157 | F42: =IFERROR(F40/F38,0) -> 2.1130104 | G42: =IFERROR(G40/G38,0) -> 1.5847578 | H42: =IFERROR(H40/H38,0) -> 1.5847578 | I42: =IFERROR(I40/I38,0) -> 1.5847578 | J42: =IFERROR(J40/J38,0) -> 1.5847578 | K42: =IFERROR(K40/K38,0) -> 1.5847578 | ... P42: =IFERROR(P40/P38,0) -> 1.8553262
C43: LTV : CAC (target ≥ 3x) | D43: =IFERROR(D39/D40,0) -> 0 | E43: =IFERROR(E39/E40,0) -> 15.775281 | F43: =IFERROR(F39/F40,0) -> 23.662921 | G43: =IFERROR(G39/G40,0) -> 31.550562 | H43: =IFERROR(H39/H40,0) -> 31.550562 | I43: =IFERROR(I39/I40,0) -> 31.550562 | J43: =IFERROR(J39/J40,0) -> 31.550562 | K43: =IFERROR(K39/K40,0) -> 31.550562 | ... P43: =IFERROR(P39/P40,0) -> 26.949438
...

Sheet EMAIL_MARKETING
B1: EMAIL MARKETING
B2: FISCAL YEAR START DATE | C2: =TODAY() -> 46317
D4: =C2 -> 46317 | E4: =DATE(YEAR(D4),MONTH(D4)+1,1) -> 46327 | F4: =DATE(YEAR(E4),MONTH(E4)+1,1) -> 46357 | G4: =DATE(YEAR(F4),MONTH(F4)+1,1) -> 46388 | H4: =DATE(YEAR(G4),MONTH(G4)+1,1) -> 46419 | I4: =DATE(YEAR(H4),MONTH(H4)+1,1) -> 46447 | J4: =DATE(YEAR(I4),MONTH(I4)+1,1) -> 46478 | K4: =DATE(YEAR(J4),MONTH(J4)+1,1) -> 46508 | L4: =DATE(YEAR(K4),MONTH(K4)+1,1) -> 46539 | ... O4: =DATE(YEAR(N4),MONTH(N4)+1,1) -> 46631 | P4: TOTAL
B5: E-MAIL FUNNEL | C5: INVESTMENT | D5: 0 | E5: 0 | F5: 0 | G5: 4000 | H5: 0 | I5: 0 | J5: 0 | K5: 0 | L5: 0 | P5: =SUM(D5:O5) -> 4000
C6: COST PER REGISTER | D6: 1 | E6: =D6 -> 1 | F6: =E6 -> 1 | G6: =F6 -> 1 | H6: =G6 -> 1 | I6: =H6 -> 1 | J6: =I6 -> 1 | K6: =J6 -> 1 | L6: =K6 -> 1 | ... O6: =N6 -> 1 | P6: =SUM(E6:O6) -> 11
C7: EMAILS SENT | D7: =(D5/D6) -> 0 | E7: =(E5/E6) -> 0 | F7: =(F5/F6) -> 0 | G7: =(G5/G6) -> 4000 | H7: =(H5/H6) -> 0 | I7: =(I5/I6) -> 0 | J7: =(J5/J6) -> 0 | K7: =(K5/K6) -> 0 | ... O7: =(O5/O6) -> 0 | P7: =SUM(D7:O7) -> 4000
C8: BOUNCE RATE (%) | D8: 0.05 | E8: =D8 -> 0.05 | F8: =E8 -> 0.05 | G8: =F8 -> 0.05 | H8: =G8 -> 0.05 | I8: =H8 -> 0.05 | J8: =I8 -> 0.05 | K8: =J8 -> 0.05 | L8: =K8 -> 0.05 | ... O8: =N8 -> 0.05 | P8: =AVERAGE(D8:O8) -> 0.05
C9: DELIVER | D9: =D7*(1-D8) -> 0 | E9: =E7*(1-E8) -> 0 | F9: =F7*(1-F8) -> 0 | G9: =G7*(1-G8) -> 3800 | H9: =H7*(1-H8) -> 0 | I9: =I7*(1-I8) -> 0 | J9: =J7*(1-J8) -> 0 | K9: =K7*(1-K8) -> 0 | ... O9: =O7*(1-O8) -> 0 | P9: =SUM(D9:O9) -> 3800
C10: OPEN RATE (%) | D10: 0.3 | E10: =D10 -> 0.3 | F10: =E10 -> 0.3 | G10: =F10 -> 0.3 | H10: =G10 -> 0.3 | I10: =H10 -> 0.3 | J10: =I10 -> 0.3 | K10: =J10 -> 0.3 | L10: =K10 -> 0.3 | ... O10: =N10 -> 0.3 | P10: =AVERAGE(D10:O10) -> 0.3
C11: MAILS OPEN | D11: =D10*D9 -> 0 | E11: =E10*E9 -> 0 | F11: =F10*F9 -> 0 | G11: =G10*G9 -> 1140 | H11: =H10*H9 -> 0 | I11: =I10*I9 -> 0 | J11: =J10*J9 -> 0 | K11: =K10*K9 -> 0 | ... O11: =O10*O9 -> 0 | P11: =AVERAGE(D11:O11) -> 95
C12: CLICK-TROUGH RATE (CTR %) | D12: 0.2 | E12: =D12 -> 0.2 | F12: =E12 -> 0.2 | G12: =F12 -> 0.2 | H12: =G12 -> 0.2 | I12: =H12 -> 0.2 | J12: =I12 -> 0.2 | K12: =J12 -> 0.2 | L12: =K12 -> 0.2 | ... O12: =N12 -> 0.2 | P12: =AVERAGE(D12:O12) -> 0.2
C13: CLICKS | D13: =D12*D11 -> 0 | E13: =E12*E11 -> 0 | F13: =F12*F11 -> 0 | G13: =G12*G11 -> 228 | H13: =H12*H11 -> 0 | I13: =I12*I11 -> 0 | J13: =J12*J11 -> 0 | K13: =K12*K11 -> 0 | ... O13: =O12*O11 -> 0 | P13: =SUM(D13:O13) -> 228
C14: COST PER CLICK (CPC) | D14: =IFERROR(D5/D13,0) -> 0 | E14: =IFERROR(E5/E13,0) -> 0 | F14: =IFERROR(F5/F13,0) -> 0 | G14: =IFERROR(G5/G13,0) -> 17.54386 | H14: =IFERROR(H5/H13,0) -> 0 | I14: =IFERROR(I5/I13,0) -> 0 | J14: =IFERROR(J5/J13,0) -> 0 | K14: =IFERROR(K5/K13,0) -> 0 | ... O14: =IFERROR(O5/O13,0) -> 0 | P14: =AVERAGE(D14:O14) -> 1.4619883
C15: CONVERSION RATE (CVR %) | D15: 0.5 | E15: =D15 -> 0.5 | F15: =E15 -> 0.5 | G15: =F15 -> 0.5 | H15: =G15 -> 0.5 | I15: =H15 -> 0.5 | J15: =I15 -> 0.5 | K15: =J15 -> 0.5 | L15: =K15 -> 0.5 | ... O15: =N15 -> 0.5 | P15: =AVERAGE(D15:O15) -> 0.5
C16: CONVERSIONS | D16: =D13*D15 -> 0 | E16: =E13*E15 -> 0 | F16: =F13*F15 -> 0 | G16: =G13*G15 -> 114 | H16: =H13*H15 -> 0 | I16: =I13*I15 -> 0 | J16: =J13*J15 -> 0 | K16: =K13*K15 -> 0 | ... O16: =O13*O15 -> 0 | P16: =SUM(D16:O16) -> 114
C17: CPA/CPL | D17: =IFERROR(D5/D16,) -> 0 | E17: =IFERROR(E5/E16,) -> 0 | F17: =IFERROR(F5/F16,) -> 0 | G17: =IFERROR(G5/G16,) -> 35.087719 | H17: =IFERROR(H5/H16,) -> 0 | I17: =IFERROR(I5/I16,) -> 0 | J17: =IFERROR(J5/J16,) -> 0 | K17: =IFERROR(K5/K16,) -> 0 | ... O17: =IFERROR(O5/O16,) -> 0 | P17: =IFERROR(P9/P16,0) -> 33.333333
B19: CUSTOMER BASE | C19: NEW ADDS | D19: =D16 -> 0 | E19: =E16 -> 0 | F19: =F16 -> 0 | G19: =G16 -> 114 | H19: =H16 -> 0 | I19: =I16 -> 0 | J19: =J16 -> 0 | K19: =K16 -> 0 | ... O19: =O16 -> 0 | P19: =SUM(D19:O19) -> 114
C20: LOSSES | E20: =E21*E22 -> 0 | F20: =F21*F22 -> 0 | G20: =G21*G22 -> 0 | H20: =H21*H22 -> 5.7 | I20: =I21*I22 -> 5.415 | J20: =J21*J22 -> 5.14425 | K20: =K21*K22 -> 4.8870375 | L20: =L21*L22 -> 4.6426856 | ... O20: =O21*O22 -> 3.9805226 | P20: =SUM(D20:O20) -> 38.370071
C21: CHURN RATE | D21: 0.05 | E21: =D21 -> 0.05 | F21: =E21 -> 0.05 | G21: =F21 -> 0.05 | H21: =G21 -> 0.05 | I21: =H21 -> 0.05 | J21: =I21 -> 0.05 | K21: =J21 -> 0.05 | L21: =K21 -> 0.05 | ... O21: =N21 -> 0.05 | P21: =SUM(D21:O21) -> 0.6
C22: CUSTOMER BASE B.P. | D22: 0 | E22: =D23 -> 0 | F22: =E23 -> 0 | G22: =F23 -> 0 | H22: =G23 -> 114 | I22: =H23 -> 108.3 | J22: =I23 -> 102.885 | K22: =J23 -> 97.74075 | L22: =K23 -> 92.853712 | ... O22: =N23 -> 79.610452 | P22: =D22 -> 0
C23: CUSTOMER BASE E.P. | D23: =D22+D19-D20 -> 0 | E23: =E22+E19-E20 -> 0 | F23: =F22+F19-F20 -> 0 | G23: =G22+G19-G20 -> 114 | H23: =H22+H19-H20 -> 108.3 | I23: =I22+I19-I20 -> 102.885 | J23: =J22+J19-J20 -> 97.74075 | K23: =K22+K19-K20 -> 92.853712 | ... O23: =O22+O19-O20 -> 75.629929 | P23: =O23 -> 75.629929
C24: AVERAGE CUSTOMER BASE | D24: =D23/2 -> 0 | E24: =(D23-E20)+(E19/2) -> 0 | F24: =(E23-F20)+(F19/2) -> 0 | G24: =(F23-G20)+(G19/2) -> 57 | H24: =(G23-H20)+(H19/2) -> 108.3 | I24: =(H23-I20)+(I19/2) -> 102.885 | J24: =(I23-J20)+(J19/2) -> 97.74075 | K24: =(J23-K20)+(K19/2) -> 92.853712 | L24: =(K23-L20)+(L19/2) -> 88.211027 | ... O24: =(N23-O20)+(O19/2) -> 75.629929 | P24: =O24 -> 75.629929
C25: % var | E25: =IFERROR(E24/D24-1,0) -> 0 | F25: =IFERROR(F24/E24-1,0) -> 0 | G25: =IFERROR(G24/F24-1,0) -> 0 | H25: =IFERROR(H24/G24-1,0) -> 0.9 | I25: =IFERROR(I24/H24-1,0) -> -0.05 | J25: =IFERROR(J24/I24-1,0) -> -0.05 | K25: =IFERROR(K24/J24-1,0) -> -0.05 | L25: =IFERROR(L24/K24-1,0) -> -0.05 | ... O25: =IFERROR(O24/N24-1,0) -> -0.05 | P25: =O25 -> -0.05
B27: REVENUES | C27: AVERAGE TICKET (€) | D27: 2 | E27: =D27 -> 2 | F27: =E27 -> 2 | G27: =F27 -> 2 | H27: =G27 -> 2 | I27: =H27 -> 2 | J27: =I27 -> 2 | K27: =J27 -> 2 | L27: =K27 -> 2 | ... O27: =N27 -> 2 | P27: =AVERAGE(D27:O27) -> 2
C28: TICKETS per PERIOD | D28: 2 | E28: =D28 -> 2 | F28: =E28 -> 2 | G28: =F28 -> 2 | H28: =G28 -> 2 | I28: =H28 -> 2 | J28: =I28 -> 2 | K28: =J28 -> 2 | L28: =K28 -> 2 | ... O28: =N28 -> 2 | P28: =AVERAGE(D28:O28) -> 2
C29: REVENUES PER USER | D29: =D27*D28 -> 4 | E29: =D29 -> 4 | F29: =E29 -> 4 | G29: =F29 -> 4 | H29: =G29 -> 4 | I29: =H29 -> 4 | J29: =I29 -> 4 | K29: =J29 -> 4 | L29: =K29 -> 4 | ... O29: =N29 -> 4 | P29: =AVERAGE(D29:O29) -> 4
C30: TOTAL REVENUES | D30: =D29*D24 -> 0 | E30: =E29*E24 -> 0 | F30: =F29*F24 -> 0 | G30: =G29*G24 -> 228 | H30: =H29*H24 -> 433.2 | I30: =I29*I24 -> 411.54 | J30: =J29*J24 -> 390.963 | K30: =K29*K24 -> 371.41485 | ... O30: =O29*O24 -> 302.51972 | P30: =SUM(D30:O30) -> 3144.1254
B32: KPI'S | C32: CUSTOMER LIFE TIME | D32: =1/D21 -> 20 | E32: =1/E21 -> 20 | F32: =1/F21 -> 20 | G32: =1/G21 -> 20 | H32: =1/H21 -> 20 | I32: =1/I21 -> 20 | J32: =1/J21 -> 20 | K32: =1/K21 -> 20 | ... P32: =1/P21 -> 1.6666667 | Q32: =20/12 -> 1.6666667
C33: ARPU | D33: =D29 -> 4 | E33: =D33 -> 4 | F33: =E33 -> 4 | G33: =F33 -> 4 | H33: =G33 -> 4 | I33: =H33 -> 4 | J33: =I33 -> 4 | K33: =J33 -> 4 | L33: =K33 -> 4 | ... O33: =N33 -> 4 | P33: =SUM(D33:O33) -> 48
C34: LIFE TIME VALUE | D34: =D32*D33 -> 80 | E34: =E32*E33 -> 80 | F34: =F32*F33 -> 80 | G34: =G32*G33 -> 80 | H34: =H32*H33 -> 80 | I34: =I32*I33 -> 80 | J34: =J32*J33 -> 80 | K34: =K32*K33 -> 80 | ... P34: =P32*P33 -> 80
C35: SAC | D35: =D17 -> 0 | E35: =E17 -> 0 | F35: =F17 -> 0 | G35: =G17 -> 35.087719 | H35: =H17 -> 0 | I35: =I17 -> 0 | J35: =J17 -> 0 | K35: =K17 -> 0 | ... P35: =P17 -> 33.333333
C36: ROI | D36: =IF(D35>0,(D34-D35)/D35,0) -> 0 | E36: =IF(E35>0,(E34-E35)/E35,0) -> 0 | F36: =IF(F35>0,(F34-F35)/F35,0) -> 0 | G36: =IF(G35>0,(G34-G35)/G35,0) -> 1.28 | H36: =IF(H35>0,(H34-H35)/H35,0) -> 0 | I36: =IF(I35>0,(I34-I35)/I35,0) -> 0 | J36: =IF(J35>0,(J34-J35)/J35,0) -> 0 | K36: =IF(K35>0,(K34-K35)/K35,0) -> 0 | ... P36: =IF(P35>0,(P34-P35)/P35,0) -> 1.4
C37: PAYBACK | D37: =IFERROR(D34/D35,0) -> 0 | E37: =IFERROR(E34/E35,0) -> 0 | F37: =IFERROR(F34/F35,0) -> 0 | G37: =IFERROR(G34/G35,0) -> 2.28 | H37: =IFERROR(H34/H35,0) -> 0 | I37: =IFERROR(I34/I35,0) -> 0 | J37: =IFERROR(J34/J35,0) -> 0 | K37: =IFERROR(K34/K35,0) -> 0 | ... P37: =IFERROR(P34/P35,0) -> 2.4

Sheet WEB_Search Display
B1: WEB_SEM (SEARCH/DISPLAY)
B2: FISCAL YEAR START DATE | C2: =TODAY() -> 46317
D4: =C2 -> 46317 | E4: =DATE(YEAR(D4),MONTH(D4)+1,1) -> 46327 | F4: =DATE(YEAR(E4),MONTH(E4)+1,1) -> 46357 | G4: =DATE(YEAR(F4),MONTH(F4)+1,1) -> 46388 | H4: =DATE(YEAR(G4),MONTH(G4)+1,1) -> 46419 | I4: =DATE(YEAR(H4),MONTH(H4)+1,1) -> 46447 | J4: =DATE(YEAR(I4),MONTH(I4)+1,1) -> 46478 | K4: =DATE(YEAR(J4),MONTH(J4)+1,1) -> 46508 | L4: =DATE(YEAR(K4),MONTH(K4)+1,1) -> 46539 | ... O4: =DATE(YEAR(N4),MONTH(N4)+1,1) -> 46631 | P4: TOTAL
B5: DISPLAY FUNNEL | C5: INVESTMENT | D5: 40 | E5: 1000 | F5: 1000 | G5: 1000 | H5: 0 | I5: 0 | J5: 0 | K5: 0 | L5: 0 | P5: =SUM(D5:O5) -> 3040
C6: CPM (Cost per Mille) | D6: 10 | E6: =D6 -> 10 | F6: =E6 -> 10 | G6: =F6 -> 10 | H6: =G6 -> 10 | I6: =H6 -> 10 | J6: =I6 -> 10 | K6: =J6 -> 10 | L6: =K6 -> 10 | ... O6: =N6 -> 10 | P6: =SUM(E6:O6) -> 110
C7: IMPRESSIONS | D7: =(D5/D6)*1000 -> 4000 | E7: =(E5/E6)*1000 -> 100000 | F7: =(F5/F6)*1000 -> 100000 | G7: =(G5/G6)*1000 -> 100000 | H7: =(H5/H6)*1000 -> 0 | I7: =(I5/I6)*1000 -> 0 | J7: =(J5/J6)*1000 -> 0 | K7: =(K5/K6)*1000 -> 0 | ... O7: =(O5/O6)*1000 -> 0 | P7: =SUM(D7:O7) -> 304000
C8: CLICK-TROUGH RATE (CTR %) | D8: 0.01 | E8: 0.01 | F8: 0.01 | G8: 0.01 | H8: 0.01 | I8: 0.01 | J8: 0.01 | K8: 0.01 | L8: 0.01 | M8: 0.01 | N8: 0.01 | O8: 0.01 | P8: =AVERAGE(D8:O8) -> 0.01
C9: CLICKS | D9: =D8*D7 -> 40 | E9: =E8*E7 -> 1000 | F9: =F8*F7 -> 1000 | G9: =G8*G7 -> 1000 | H9: =H8*H7 -> 0 | I9: =I8*I7 -> 0 | J9: =J8*J7 -> 0 | K9: =K8*K7 -> 0 | ... O9: =O8*O7 -> 0 | P9: =SUM(D9:O9) -> 3040
C10: COST PER CLICK (CPC) | D10: =IFERROR(D5/D9,0) -> 1 | E10: =IFERROR(E5/E9,0) -> 1 | F10: =IFERROR(F5/F9,0) -> 1 | G10: =IFERROR(G5/G9,0) -> 1 | H10: =IFERROR(H5/H9,0) -> 0 | I10: =IFERROR(I5/I9,0) -> 0 | J10: =IFERROR(J5/J9,0) -> 0 | K10: =IFERROR(K5/K9,0) -> 0 | ... O10: =IFERROR(O5/O9,0) -> 0 | P10: =AVERAGE(D10:O10) -> 0.33333333
C11: CONVERSION RATE (CVR %) | D11: 0.03 | E11: =D11 -> 0.03 | F11: =E11 -> 0.03 | G11: =F11 -> 0.03 | H11: =G11 -> 0.03 | I11: =H11 -> 0.03 | J11: =I11 -> 0.03 | K11: =J11 -> 0.03 | L11: =K11 -> 0.03 | ... O11: =N11 -> 0.03 | P11: =AVERAGE(D11:O11) -> 0.03
C12: CONVERSIONS | D12: =D9*D11 -> 1.2 | E12: =E9*E11 -> 30 | F12: =F9*F11 -> 30 | G12: =G9*G11 -> 30 | H12: =H9*H11 -> 0 | I12: =I9*I11 -> 0 | J12: =J9*J11 -> 0 | K12: =K9*K11 -> 0 | ... O12: =O9*O11 -> 0 | P12: =SUM(D12:O12) -> 91.2
C13: CPA/CPL | D13: =IFERROR(D5/D12,) -> 33.333333 | E13: =IFERROR(E5/E12,) -> 33.333333 | F13: =IFERROR(F5/F12,) -> 33.333333 | G13: =IFERROR(G5/G12,) -> 33.333333 | H13: =IFERROR(H5/H12,) -> 0 | I13: =IFERROR(I5/I12,) -> 0 | J13: =IFERROR(J5/J12,) -> 0 | K13: =IFERROR(K5/K12,) -> 0 | ... O13: =IFERROR(O5/O12,) -> 0 | P13: =IFERROR(P5/P12,0) -> 33.333333
B15: CUSTOMER BASE | C15: NEW ADDS | D15: =D12 -> 1.2 | E15: =E12 -> 30 | F15: =F12 -> 30 | G15: =G12 -> 30 | H15: =H12 -> 0 | I15: =I12 -> 0 | J15: =J12 -> 0 | K15: =K12 -> 0 | ... O15: =O12 -> 0 | P15: =SUM(D15:O15) -> 91.2
C16: LOSSES | E16: =E17*E18 -> 0.06 | F16: =F17*F18 -> 1.557 | G16: =G17*G18 -> 2.97915 | H16: =H17*H18 -> 4.3301925 | I16: =I17*I18 -> 4.1136829 | J16: =J17*J18 -> 3.9079987 | K16: =K17*K18 -> 3.7125988 | L16: =L17*L18 -> 3.5269689 | ... O16: =O17*O18 -> 3.0239349 | P16: =SUM(D16:O16) -> 33.745236
C17: CHURN RATE | D17: 0.05 | E17: =D17 -> 0.05 | F17: =E17 -> 0.05 | G17: =F17 -> 0.05 | H17: =G17 -> 0.05 | I17: =H17 -> 0.05 | J17: =I17 -> 0.05 | K17: =J17 -> 0.05 | L17: =K17 -> 0.05 | ... O17: =N17 -> 0.05 | P17: =SUM(D17:O17) -> 0.6
C18: CUSTOMER BASE B.P. | D18: 0 | E18: =D19 -> 1.2 | F18: =E19 -> 31.14 | G18: =F19 -> 59.583 | H18: =G19 -> 86.60385 | I18: =H19 -> 82.273657 | J18: =I19 -> 78.159975 | K18: =J19 -> 74.251976 | L18: =K19 -> 70.539377 | ... O18: =N19 -> 60.478698 | P18: =D18 -> 0
C19: CUSTOMER BASE E.P. | D19: =D18+D15-D16 -> 1.2 | E19: =E18+E15-E16 -> 31.14 | F19: =F18+F15-F16 -> 59.583 | G19: =G18+G15-G16 -> 86.60385 | H19: =H18+H15-H16 -> 82.273657 | I19: =I18+I15-I16 -> 78.159975 | J19: =J18+J15-J16 -> 74.251976 | K19: =K18+K15-K16 -> 70.539377 | ... O19: =O18+O15-O16 -> 57.454764 | P19: =O19 -> 57.454764
C20: AVERAGE CUSTOMER BASE | D20: =D19/2 -> 0.6 | E20: =(D19-E16)+(E15/2) -> 16.14 | F20: =(E19-F16)+(F15/2) -> 44.583 | G20: =(F19-G16)+(G15/2) -> 71.60385 | H20: =(G19-H16)+(H15/2) -> 82.273657 | I20: =(H19-I16)+(I15/2) -> 78.159975 | J20: =(I19-J16)+(J15/2) -> 74.251976 | K20: =(J19-K16)+(K15/2) -> 70.539377 | L20: =(K19-L16)+(L15/2) -> 67.012408 | ... O20: =(N19-O16)+(O15/2) -> 57.454764 | P20: =O20 -> 57.454764
C21: % var | E21: =IFERROR(E20/D20-1,0) -> 25.9 | F21: =IFERROR(F20/E20-1,0) -> 1.7622677 | G21: =IFERROR(G20/F20-1,0) -> 0.60607967 | H21: =IFERROR(H20/G20-1,0) -> 0.14901165 | I21: =IFERROR(I20/H20-1,0) -> -0.05 | J21: =IFERROR(J20/I20-1,0) -> -0.05 | K21: =IFERROR(K20/J20-1,0) -> -0.05 | L21: =IFERROR(L20/K20-1,0) -> -0.05 | ... O21: =IFERROR(O20/N20-1,0) -> -0.05
B23: REVENUES | C23: AVERAGE TICKET (€) | D23: 2 | E23: =D23 -> 2 | F23: =E23 -> 2 | G23: =F23 -> 2 | H23: =G23 -> 2 | I23: =H23 -> 2 | J23: =I23 -> 2 | K23: =J23 -> 2 | L23: =K23 -> 2 | ... O23: =N23 -> 2 | P23: =AVERAGE(D23:O23) -> 2
C24: TICKETS per PERIOD | D24: 2 | E24: =D24 -> 2 | F24: =E24 -> 2 | G24: =F24 -> 2 | H24: =G24 -> 2 | I24: =H24 -> 2 | J24: =I24 -> 2 | K24: =J24 -> 2 | L24: =K24 -> 2 | ... O24: =N24 -> 2 | P24: =AVERAGE(D24:O24) -> 2
C25: REVENUES PER USER | D25: =D23*D24 -> 4 | E25: =D25 -> 4 | F25: =E25 -> 4 | G25: =F25 -> 4 | H25: =G25 -> 4 | I25: =H25 -> 4 | J25: =I25 -> 4 | K25: =J25 -> 4 | L25: =K25 -> 4 | ... O25: =N25 -> 4 | P25: =AVERAGE(D25:O25) -> 4
C26: TOTAL REVENUES | D26: =D25*D20 -> 2.4 | E26: =E25*E20 -> 64.56 | F26: =F25*F20 -> 178.332 | G26: =G25*G20 -> 286.4154 | H26: =H25*H20 -> 329.09463 | I26: =I25*I20 -> 312.6399 | J26: =J25*J20 -> 297.0079 | K26: =K25*K20 -> 282.15751 | ... O26: =O25*O20 -> 229.81905 | P26: =SUM(D26:O26) -> 2747.038
B28: KPI'S | C28: CUSTOMER LIFE TIME | D28: =1/D17 -> 20 | E28: =1/E17 -> 20 | F28: =1/F17 -> 20 | G28: =1/G17 -> 20 | H28: =1/H17 -> 20 | I28: =1/I17 -> 20 | J28: =1/J17 -> 20 | K28: =1/K17 -> 20 | ... P28: =1/P17 -> 1.6666667
C29: ARPU | D29: =D25 -> 4 | E29: =D29 -> 4 | F29: =E29 -> 4 | G29: =F29 -> 4 | H29: =G29 -> 4 | I29: =H29 -> 4 | J29: =I29 -> 4 | K29: =J29 -> 4 | L29: =K29 -> 4 | ... O29: =N29 -> 4 | P29: =SUM(D29:O29) -> 48
C30: LIFE TIME VALUE | D30: =D28*D29 -> 80 | E30: =E28*E29 -> 80 | F30: =F28*F29 -> 80 | G30: =G28*G29 -> 80 | H30: =H28*H29 -> 80 | I30: =I28*I29 -> 80 | J30: =J28*J29 -> 80 | K30: =K28*K29 -> 80 | ... P30: =P28*P29 -> 80
C31: SAC | D31: =D13 -> 33.333333 | E31: =E13 -> 33.333333 | F31: =F13 -> 33.333333 | G31: =G13 -> 33.333333 | H31: =H13 -> 0 | I31: =I13 -> 0 | J31: =J13 -> 0 | K31: =K13 -> 0 | ... P31: =P13 -> 33.333333
C32: ROI | D32: =IF(D31>0,(D30-D31)/D31,0) -> 1.4 | E32: =IF(E31>0,(E30-E31)/E31,0) -> 1.4 | F32: =IF(F31>0,(F30-F31)/F31,0) -> 1.4 | G32: =IF(G31>0,(G30-G31)/G31,0) -> 1.4 | H32: =IF(H31>0,(H30-H31)/H31,0) -> 0 | I32: =IF(I31>0,(I30-I31)/I31,0) -> 0 | J32: =IF(J31>0,(J30-J31)/J31,0) -> 0 | K32: =IF(K31>0,(K30-K31)/K31,0) -> 0 | ... P32: =IF(P31>0,(P30-P31)/P31,0) -> 1.4
C33: PAYBACK | D33: =IFERROR(D30/D31,0) -> 2.4 | E33: =IFERROR(E30/E31,0) -> 2.4 | F33: =IFERROR(F30/F31,0) -> 2.4 | G33: =IFERROR(G30/G31,0) -> 2.4 | H33: =IFERROR(H30/H31,0) -> 0 | I33: =IFERROR(I30/I31,0) -> 0 | J33: =IFERROR(J30/J31,0) -> 0 | K33: =IFERROR(K30/K31,0) -> 0 | ... O33: =IFERROR(O30/O31,0) -> 0 | P33: =SUM(D33:O33) -> 9.6

Sheet WEB_ORGANIC
B1: WEB_SEM (SEARCH/DISPLAY)
B2: FISCAL YEAR START DATE | C2: =TODAY() -> 46317
D4: =C2 -> 46317 | E4: =DATE(YEAR(D4),MONTH(D4)+1,1) -> 46327 | F4: =DATE(YEAR(E4),MONTH(E4)+1,1) -> 46357 | G4: =DATE(YEAR(F4),MONTH(F4)+1,1) -> 46388 | H4: =DATE(YEAR(G4),MONTH(G4)+1,1) -> 46419 | I4: =DATE(YEAR(H4),MONTH(H4)+1,1) -> 46447 | J4: =DATE(YEAR(I4),MONTH(I4)+1,1) -> 46478 | K4: =DATE(YEAR(J4),MONTH(J4)+1,1) -> 46508 | L4: =DATE(YEAR(K4),MONTH(K4)+1,1) -> 46539 | ... O4: =DATE(YEAR(N4),MONTH(N4)+1,1) -> 46631 | P4: TOTAL
B5: ORGANIC | C5: INVESTMENT | D5: 0 | E5: 0 | F5: 0 | G5: 0 | H5: 0 | I5: 0 | J5: 0 | K5: 0 | L5: 0 | M5: 0 | N5: 0 | O5: 0 | P5: =SUM(D5:O5) -> 0
C6: VISISTS | D6: 1000 | E6: =D6+1000 -> 2000 | F6: =E6+1000 -> 3000 | G6: =F6+1000 -> 4000 | H6: =G6+1000 -> 5000 | I6: =H6+1000 -> 6000 | J6: =I6+1000 -> 7000 | K6: =J6+1000 -> 8000 | L6: =K6+1000 -> 9000 | ... O6: =N6+1000 -> 12000 | P6: =SUM(E6:O6) -> 77000
C7: CONVERSION RATE (CVR %) | D7: 0.03 | E7: =D7 -> 0.03 | F7: =E7 -> 0.03 | G7: =F7 -> 0.03 | H7: =G7 -> 0.03 | I7: =H7 -> 0.03 | J7: =I7 -> 0.03 | K7: =J7 -> 0.03 | L7: =K7 -> 0.03 | ... O7: =N7 -> 0.03 | P7: =AVERAGE(D7:O7) -> 0.03
C8: CONVERSIONS | D8: =D7*D6 -> 30 | E8: =E7*E6 -> 60 | F8: =F7*F6 -> 90 | G8: =G7*G6 -> 120 | H8: =H7*H6 -> 150 | I8: =I7*I6 -> 180 | J8: =J7*J6 -> 210 | K8: =K7*K6 -> 240 | ... O8: =O7*O6 -> 360 | P8: =SUM(D8:O8) -> 2340
C9: CPA/CPL | D9: =IFERROR(D5/D8,) -> 0 | E9: =IFERROR(E5/E8,) -> 0 | F9: =IFERROR(F5/F8,) -> 0 | G9: =IFERROR(G5/G8,) -> 0 | H9: =IFERROR(H5/H8,) -> 0 | I9: =IFERROR(I5/I8,) -> 0 | J9: =IFERROR(J5/J8,) -> 0 | K9: =IFERROR(K5/K8,) -> 0 | ... O9: =IFERROR(O5/O8,) -> 0 | P9: =IFERROR(P5/P8,0) -> 0
B11: CUSTOMER BASE | C11: NEW ADDS | D11: =D8 -> 30 | E11: =E8 -> 60 | F11: =F8 -> 90 | G11: =G8 -> 120 | H11: =H8 -> 150 | I11: =I8 -> 180 | J11: =J8 -> 210 | K11: =K8 -> 240 | ... O11: =O8 -> 360 | P11: =SUM(D11:O11) -> 2340
C12: LOSSES | E12: =E13*E14 -> 1.5 | F12: =F13*F14 -> 4.425 | G12: =G13*G14 -> 8.70375 | H12: =H13*H14 -> 14.268562 | I12: =I13*I14 -> 21.055134 | J12: =J13*J14 -> 29.002378 | K12: =K13*K14 -> 38.052259 | L12: =L13*L14 -> 48.149646 | ... O12: =O13*O14 -> 84.216053 | P12: =SUM(D12:O12) -> 379.895
C13: CHURN RATE | D13: 0.05 | E13: =D13 -> 0.05 | F13: =E13 -> 0.05 | G13: =F13 -> 0.05 | H13: =G13 -> 0.05 | I13: =H13 -> 0.05 | J13: =I13 -> 0.05 | K13: =J13 -> 0.05 | L13: =K13 -> 0.05 | ... O13: =N13 -> 0.05 | P13: =SUM(D13:O13) -> 0.6
C14: CUSTOMER BASE B.P. | D14: 0 | E14: =D15 -> 30 | F14: =E15 -> 88.5 | G14: =F15 -> 174.075 | H14: =G15 -> 285.37125 | I14: =H15 -> 421.10269 | J14: =I15 -> 580.04755 | K14: =J15 -> 761.04518 | L14: =K15 -> 962.99292 | ... O14: =N15 -> 1684.3211 | P14: =D14 -> 0
C15: CUSTOMER BASE E.P. | D15: =D14+D11-D12 -> 30 | E15: =E14+E11-E12 -> 88.5 | F15: =F14+F11-F12 -> 174.075 | G15: =G14+G11-G12 -> 285.37125 | H15: =H14+H11-H12 -> 421.10269 | I15: =I14+I11-I12 -> 580.04755 | J15: =J14+J11-J12 -> 761.04518 | K15: =K14+K11-K12 -> 962.99292 | ... O15: =O14+O11-O12 -> 1960.105 | P15: =O15 -> 1960.105
C16: AVERAGE CUSTOMER BASE | D16: =D15/2 -> 15 | E16: =(D15-E12)+(E11/2) -> 58.5 | F16: =(E15-F12)+(F11/2) -> 129.075 | G16: =(F15-G12)+(G11/2) -> 225.37125 | H16: =(G15-H12)+(H11/2) -> 346.10269 | I16: =(H15-I12)+(I11/2) -> 490.04755 | J16: =(I15-J12)+(J11/2) -> 656.04518 | K16: =(J15-K12)+(K11/2) -> 842.99292 | L16: =(K15-L12)+(L11/2) -> 1049.8433 | ... O16: =(N15-O12)+(O11/2) -> 1780.105 | P16: =O16 -> 1780.105
C17: % var | E17: =IFERROR(E16/D16-1,0) -> 2.9 | F17: =IFERROR(F16/E16-1,0) -> 1.2064103 | G17: =IFERROR(G16/F16-1,0) -> 0.74604881 | H17: =IFERROR(H16/G16-1,0) -> 0.53570026 | I17: =IFERROR(I16/H16-1,0) -> 0.41590219 | J17: =IFERROR(J16/I16-1,0) -> 0.33873778 | K17: =IFERROR(K16/J16-1,0) -> 0.28496169 | L17: =IFERROR(L16/K16-1,0) -> 0.24537615 | ... O17: =IFERROR(O16/N16-1,0) -> 0.17164506
B19: REVENUES | C19: AVERAGE TICKET (€) | D19: 2 | E19: =D19 -> 2 | F19: =E19 -> 2 | G19: =F19 -> 2 | H19: =G19 -> 2 | I19: =H19 -> 2 | J19: =I19 -> 2 | K19: =J19 -> 2 | L19: =K19 -> 2 | ... O19: =N19 -> 2 | P19: =AVERAGE(D19:O19) -> 2
C20: TICKETS per PERIOD | D20: 2 | E20: =D20 -> 2 | F20: =E20 -> 2 | G20: =F20 -> 2 | H20: =G20 -> 2 | I20: =H20 -> 2 | J20: =I20 -> 2 | K20: =J20 -> 2 | L20: =K20 -> 2 | ... O20: =N20 -> 2 | P20: =AVERAGE(D20:O20) -> 2
C21: REVENUES PER USER | D21: =D19*D20 -> 4 | E21: =D21 -> 4 | F21: =E21 -> 4 | G21: =F21 -> 4 | H21: =G21 -> 4 | I21: =H21 -> 4 | J21: =I21 -> 4 | K21: =J21 -> 4 | L21: =K21 -> 4 | ... O21: =N21 -> 4 | P21: =AVERAGE(D21:O21) -> 4
C22: TOTAL REVENUES | D22: =D21*D16 -> 60 | E22: =E21*E16 -> 234 | F22: =F21*F16 -> 516.3 | G22: =G21*G16 -> 901.485 | H22: =H21*H16 -> 1384.4108 | I22: =I21*I16 -> 1960.1902 | J22: =J21*J16 -> 2624.1807 | K22: =K21*K16 -> 3371.9717 | ... O22: =O21*O16 -> 7120.42 | P22: =SUM(D22:O22) -> 33552.02
B24: KPI'S | C24: CUSTOMER LIFE TIME | D24: =1/D13 -> 20 | E24: =1/E13 -> 20 | F24: =1/F13 -> 20 | G24: =1/G13 -> 20 | H24: =1/H13 -> 20 | I24: =1/I13 -> 20 | J24: =1/J13 -> 20 | K24: =1/K13 -> 20 | ... P24: =1/P13 -> 1.6666667 | Q24: =20/12 -> 1.6666667
C25: ARPU | D25: =D21 -> 4 | E25: =D25 -> 4 | F25: =E25 -> 4 | G25: =F25 -> 4 | H25: =G25 -> 4 | I25: =H25 -> 4 | J25: =I25 -> 4 | K25: =J25 -> 4 | L25: =K25 -> 4 | ... O25: =N25 -> 4 | P25: =SUM(D25:O25) -> 48
C26: LIFE TIME VALUE | D26: =D24*D25 -> 80 | E26: =E24*E25 -> 80 | F26: =F24*F25 -> 80 | G26: =G24*G25 -> 80 | H26: =H24*H25 -> 80 | I26: =I24*I25 -> 80 | J26: =J24*J25 -> 80 | K26: =K24*K25 -> 80 | ... P26: =P24*P25 -> 80
C27: SAC | D27: =D9 -> 0 | E27: =E9 -> 0 | F27: =F9 -> 0 | G27: =G9 -> 0 | H27: =H9 -> 0 | I27: =I9 -> 0 | J27: =J9 -> 0 | K27: =K9 -> 0 | ... P27: =P9 -> 0
C28: ROI | D28: =IF(D27>0,(D26-D27)/D27,0) -> 0 | E28: =IF(E27>0,(E26-E27)/E27,0) -> 0 | F28: =IF(F27>0,(F26-F27)/F27,0) -> 0 | G28: =IF(G27>0,(G26-G27)/G27,0) -> 0 | H28: =IF(H27>0,(H26-H27)/H27,0) -> 0 | I28: =IF(I27>0,(I26-I27)/I27,0) -> 0 | J28: =IF(J27>0,(J26-J27)/J27,0) -> 0 | K28: =IF(K27>0,(K26-K27)/K27,0) -> 0 | ... P28: =IF(P27>0,(P26-P27)/P27,0) -> 0
C29: PAYBACK | D29: =IFERROR(D26/D27,0) -> 0 | E29: =IFERROR(E26/E27,0) -> 0 | F29: =IFERROR(F26/F27,0) -> 0 | G29: =IFERROR(G26/G27,0) -> 0 | H29: =IFERROR(H26/H27,0) -> 0 | I29: =IFERROR(I26/I27,0) -> 0 | J29: =IFERROR(J26/J27,0) -> 0 | K29: =IFERROR(K26/K27,0) -> 0 | ... O29: =IFERROR(O26/O27,0) -> 0 | P29: =SUM(D29:O29) -> 0

Sheet PAID_SOCIAL_ECommerce
B1: PAID SOCIAL (REPEAT-PURCHASE E-COMMERCE)
B2: FISCAL YEAR START DATE | C2: =TODAY() -> 46317
D4: =C2 -> 46317 | E4: =DATE(YEAR(D4),MONTH(D4)+1,1) -> 46327 | F4: =DATE(YEAR(E4),MONTH(E4)+1,1) -> 46357 | G4: =DATE(YEAR(F4),MONTH(F4)+1,1) -> 46388 | H4: =DATE(YEAR(G4),MONTH(G4)+1,1) -> 46419 | I4: =DATE(YEAR(H4),MONTH(H4)+1,1) -> 46447 | J4: =DATE(YEAR(I4),MONTH(I4)+1,1) -> 46478 | K4: =DATE(YEAR(J4),MONTH(J4)+1,1) -> 46508 | L4: =DATE(YEAR(K4),MONTH(K4)+1,1) -> 46539 | ... O4: =DATE(YEAR(N4),MONTH(N4)+1,1) -> 46631 | P4: TOTAL
B5: DISPLAY FUNNEL | C5: INVESTMENT | D5: 600 | E5: 900 | F5: 900 | G5: 900 | H5: 600 | I5: 600 | J5: 600 | K5: 600 | L5: 0 | M5: 0 | N5: 0 | O5: 0 | P5: =SUM(D5:O5) -> 5700
C6: CPM (Cost per Mille) | D6: 11 | E6: =D6 -> 11 | F6: =E6 -> 11 | G6: =F6 -> 11 | H6: =G6 -> 11 | I6: =H6 -> 11 | J6: =I6 -> 11 | K6: =J6 -> 11 | L6: =K6 -> 11 | ... O6: =N6 -> 11 | P6: =SUM(E6:O6) -> 121
C7: IMPRESSIONS | D7: =(D5/D6)*1000 -> 54545.455 | E7: =(E5/E6)*1000 -> 81818.182 | F7: =(F5/F6)*1000 -> 81818.182 | G7: =(G5/G6)*1000 -> 81818.182 | H7: =(H5/H6)*1000 -> 54545.455 | I7: =(I5/I6)*1000 -> 54545.455 | J7: =(J5/J6)*1000 -> 54545.455 | K7: =(K5/K6)*1000 -> 54545.455 | ... O7: =(O5/O6)*1000 -> 0 | P7: =SUM(D7:O7) -> 518181.82
C8: CLICK-TROUGH RATE (CTR %) | D8: 0.018 | E8: 0.01 | F8: 0.01 | G8: 0.01 | H8: 0.01 | I8: 0.01 | J8: 0.01 | K8: 0.01 | L8: 0.01 | M8: 0.01 | N8: 0.01 | O8: 0.01 | P8: =AVERAGE(D8:O8) -> 0.010666667
C9: CLICKS | D9: =D8*D7 -> 981.81818 | E9: =E8*E7 -> 818.18182 | F9: =F8*F7 -> 818.18182 | G9: =G8*G7 -> 818.18182 | H9: =H8*H7 -> 545.45455 | I9: =I8*I7 -> 545.45455 | J9: =J8*J7 -> 545.45455 | K9: =K8*K7 -> 545.45455 | ... O9: =O8*O7 -> 0 | P9: =SUM(D9:O9) -> 5618.1818
C10: COST PER CLICK (CPC) | D10: =IFERROR(D5/D9,0) -> 0.61111111 | E10: =IFERROR(E5/E9,0) -> 1.1 | F10: =IFERROR(F5/F9,0) -> 1.1 | G10: =IFERROR(G5/G9,0) -> 1.1 | H10: =IFERROR(H5/H9,0) -> 1.1 | I10: =IFERROR(I5/I9,0) -> 1.1 | J10: =IFERROR(J5/J9,0) -> 1.1 | K10: =IFERROR(K5/K9,0) -> 1.1 | ... O10: =IFERROR(O5/O9,0) -> 0 | P10: =AVERAGE(D10:O10) -> 0.69259259
C11: CONVERSION RATE (CVR %) | D11: 0.028 | E11: =D11 -> 0.028 | F11: =E11 -> 0.028 | G11: =F11 -> 0.028 | H11: =G11 -> 0.028 | I11: =H11 -> 0.028 | J11: =I11 -> 0.028 | K11: =J11 -> 0.028 | L11: =K11 -> 0.028 | ... O11: =N11 -> 0.028 | P11: =AVERAGE(D11:O11) -> 0.028
C12: CONVERSIONS | D12: =D9*D11 -> 27.490909 | E12: =E9*E11 -> 22.909091 | F12: =F9*F11 -> 22.909091 | G12: =G9*G11 -> 22.909091 | H12: =H9*H11 -> 15.272727 | I12: =I9*I11 -> 15.272727 | J12: =J9*J11 -> 15.272727 | K12: =K9*K11 -> 15.272727 | ... O12: =O9*O11 -> 0 | P12: =SUM(D12:O12) -> 157.30909
C13: CPA/CPL | D13: =IFERROR(D5/D12,) -> 21.825397 | E13: =IFERROR(E5/E12,) -> 39.285714 | F13: =IFERROR(F5/F12,) -> 39.285714 | G13: =IFERROR(G5/G12,) -> 39.285714 | H13: =IFERROR(H5/H12,) -> 39.285714 | I13: =IFERROR(I5/I12,) -> 39.285714 | J13: =IFERROR(J5/J12,) -> 39.285714 | K13: =IFERROR(K5/K12,) -> 39.285714 | ... O13: =IFERROR(O5/O12,) -> 0 | P13: =IFERROR(P5/P12,0) -> 36.234397
B15: CUSTOMER BASE | C15: NEW ADDS | D15: =D12 -> 27.490909 | E15: =E12 -> 22.909091 | F15: =F12 -> 22.909091 | G15: =G12 -> 22.909091 | H15: =H12 -> 15.272727 | I15: =I12 -> 15.272727 | J15: =J12 -> 15.272727 | K15: =K12 -> 15.272727 | ... O15: =O12 -> 0 | P15: =SUM(D15:O15) -> 157.30909
C16: LOSSES | E16: =E17*E18 -> 9.6218182 | F16: =F17*F18 -> 14.272364 | G16: =G17*G18 -> 17.295218 | H16: =H17*H18 -> 19.260074 | I16: =I17*I18 -> 17.864502 | J16: =J17*J18 -> 16.957381 | K16: =K17*K18 -> 16.367752 | L16: =L17*L18 -> 15.984494 | ... O16: =O17*O18 -> 4.3897415 | P16: =SUM(D16:O16) -> 149.15671
C17: NON-REPURCHASE RATE (period) | D17: 0.35 | E17: =D17 -> 0.35 | F17: =E17 -> 0.35 | G17: =F17 -> 0.35 | H17: =G17 -> 0.35 | I17: =H17 -> 0.35 | J17: =I17 -> 0.35 | K17: =J17 -> 0.35 | L17: =K17 -> 0.35 | ... O17: =N17 -> 0.35 | P17: =SUM(D17:O17) -> 4.2
C18: CUSTOMER BASE B.P. | D18: 0 | E18: =D19 -> 27.490909 | F18: =E19 -> 40.778182 | G18: =F19 -> 49.414909 | H18: =G19 -> 55.028782 | I18: =H19 -> 51.041435 | J18: =I19 -> 48.44966 | K18: =J19 -> 46.765006 | L18: =K19 -> 45.669981 | ... O18: =N19 -> 12.542119 | P18: =D18 -> 0
C19: CUSTOMER BASE E.P. | D19: =D18+D15-D16 -> 27.490909 | E19: =E18+E15-E16 -> 40.778182 | F19: =F18+F15-F16 -> 49.414909 | G19: =G18+G15-G16 -> 55.028782 | H19: =H18+H15-H16 -> 51.041435 | I19: =I18+I15-I16 -> 48.44966 | J19: =J18+J15-J16 -> 46.765006 | K19: =K18+K15-K16 -> 45.669981 | ... O19: =O18+O15-O16 -> 8.1523771 | P19: =O19 -> 8.1523771
C20: AVERAGE CUSTOMER BASE | D20: =D19/2 -> 13.745455 | E20: =(D19-E16)+(E15/2) -> 29.323636 | F20: =(E19-F16)+(F15/2) -> 37.960364 | G20: =(F19-G16)+(G15/2) -> 43.574236 | H20: =(G19-H16)+(H15/2) -> 43.405072 | I20: =(H19-I16)+(I15/2) -> 40.813297 | J20: =(I19-J16)+(J15/2) -> 39.128643 | K20: =(J19-K16)+(K15/2) -> 38.033618 | L20: =(K19-L16)+(L15/2) -> 29.685488 | ... O20: =(N19-O16)+(O15/2) -> 8.1523771 | P20: =O20 -> 8.1523771
C21: % var | E21: =IFERROR(E20/D20-1,0) -> 1.1333333 | F21: =IFERROR(F20/E20-1,0) -> 0.29453125 | G21: =IFERROR(G20/F20-1,0) -> 0.14788775 | H21: =IFERROR(H20/G20-1,0) -> -0.0038822148 | I21: =IFERROR(I20/H20-1,0) -> -0.059711343 | J21: =IFERROR(J20/I20-1,0) -> -0.041277083 | K21: =IFERROR(K20/J20-1,0) -> -0.027985254 | L21: =IFERROR(L20/K20-1,0) -> -0.21949345 | ... O21: =IFERROR(O20/N20-1,0) -> -0.35
B23: REVENUES | C23: AVERAGE ORDER VALUE (€) | D23: 110 | E23: =D23 -> 110 | F23: =E23 -> 110 | G23: =F23 -> 110 | H23: =G23 -> 110 | I23: =H23 -> 110 | J23: =I23 -> 110 | K23: =J23 -> 110 | L23: =K23 -> 110 | ... O23: =N23 -> 110 | P23: =AVERAGE(D23:O23) -> 110
C24: ORDERS per PERIOD | D24: 0.45 | E24: =D24 -> 0.45 | F24: =E24 -> 0.45 | G24: =F24 -> 0.45 | H24: =G24 -> 0.45 | I24: =H24 -> 0.45 | J24: =I24 -> 0.45 | K24: =J24 -> 0.45 | L24: =K24 -> 0.45 | ... O24: =N24 -> 0.45 | P24: =AVERAGE(D24:O24) -> 0.45
C25: REVENUES PER USER | D25: =D23*D24 -> 49.5 | E25: =D25 -> 49.5 | F25: =E25 -> 49.5 | G25: =F25 -> 49.5 | H25: =G25 -> 49.5 | I25: =H25 -> 49.5 | J25: =I25 -> 49.5 | K25: =J25 -> 49.5 | L25: =K25 -> 49.5 | ... O25: =N25 -> 49.5 | P25: =AVERAGE(D25:O25) -> 49.5
C26: TOTAL REVENUES | D26: =D25*D20 -> 680.4 | E26: =E25*E20 -> 1451.52 | F26: =F25*F20 -> 1879.038 | G26: =G25*G20 -> 2156.9247 | H26: =H25*H20 -> 2148.5511 | I26: =I25*I20 -> 2020.2582 | J26: =J25*J20 -> 1936.8678 | K26: =K25*K20 -> 1882.6641 | ... O26: =O25*O20 -> 403.54267 | P26: =SUM(D26:O26) -> 17605.164
B28: KPI'S | C28: CUSTOMER LIFE TIME | D28: =1/D17 -> 2.8571429 | E28: =1/E17 -> 2.8571429 | F28: =1/F17 -> 2.8571429 | G28: =1/G17 -> 2.8571429 | H28: =1/H17 -> 2.8571429 | I28: =1/I17 -> 2.8571429 | J28: =1/J17 -> 2.8571429 | K28: =1/K17 -> 2.8571429 | ... P28: =1/P17 -> 0.23809524
C29: ARPU | D29: =D25 -> 49.5 | E29: =D29 -> 49.5 | F29: =E29 -> 49.5 | G29: =F29 -> 49.5 | H29: =G29 -> 49.5 | I29: =H29 -> 49.5 | J29: =I29 -> 49.5 | K29: =J29 -> 49.5 | L29: =K29 -> 49.5 | ... O29: =N29 -> 49.5 | P29: =SUM(D29:O29) -> 594
C30: LIFE TIME VALUE | D30: =D28*D29 -> 141.42857 | E30: =E28*E29 -> 141.42857 | F30: =F28*F29 -> 141.42857 | G30: =G28*G29 -> 141.42857 | H30: =H28*H29 -> 141.42857 | I30: =I28*I29 -> 141.42857 | J30: =J28*J29 -> 141.42857 | K30: =K28*K29 -> 141.42857 | ... P30: =P28*P29 -> 141.42857
C31: SAC | D31: =D13 -> 21.825397 | E31: =E13 -> 39.285714 | F31: =F13 -> 39.285714 | G31: =G13 -> 39.285714 | H31: =H13 -> 39.285714 | I31: =I13 -> 39.285714 | J31: =J13 -> 39.285714 | K31: =K13 -> 39.285714 | ... P31: =P13 -> 36.234397
C32: ROI | D32: =IF(D31>0,(D30-D31)/D31,0) -> 5.48 | E32: =IF(E31>0,(E30-E31)/E31,0) -> 2.6 | F32: =IF(F31>0,(F30-F31)/F31,0) -> 2.6 | G32: =IF(G31>0,(G30-G31)/G31,0) -> 2.6 | H32: =IF(H31>0,(H30-H31)/H31,0) -> 2.6 | I32: =IF(I31>0,(I30-I31)/I31,0) -> 2.6 | J32: =IF(J31>0,(J30-J31)/J31,0) -> 2.6 | K32: =IF(K31>0,(K30-K31)/K31,0) -> 2.6 | ... P32: =IF(P31>0,(P30-P31)/P31,0) -> 2.9031579
C33: PAYBACK | D33: =IFERROR(D30/D31,0) -> 6.48 | E33: =IFERROR(E30/E31,0) -> 3.6 | F33: =IFERROR(F30/F31,0) -> 3.6 | G33: =IFERROR(G30/G31,0) -> 3.6 | H33: =IFERROR(H30/H31,0) -> 3.6 | I33: =IFERROR(I30/I31,0) -> 3.6 | J33: =IFERROR(J30/J31,0) -> 3.6 | K33: =IFERROR(K30/K31,0) -> 3.6 | ... O33: =IFERROR(O30/O31,0) -> 0 | P33: =SUM(D33:O33) -> 31.68

Sheet APP_AD_SUPPORTED
B1: APP_AD_SUPPORTED (FREE APP, AD-MONETIZED)
B2: FISCAL YEAR START DATE | C2: =TODAY() -> 46317
D4: =C2 -> 46317 | E4: =DATE(YEAR(D4),MONTH(D4)+1,1) -> 46327 | F4: =DATE(YEAR(E4),MONTH(E4)+1,1) -> 46357 | G4: =DATE(YEAR(F4),MONTH(F4)+1,1) -> 46388 | H4: =DATE(YEAR(G4),MONTH(G4)+1,1) -> 46419 | I4: =DATE(YEAR(H4),MONTH(H4)+1,1) -> 46447 | J4: =DATE(YEAR(I4),MONTH(I4)+1,1) -> 46478 | K4: =DATE(YEAR(J4),MONTH(J4)+1,1) -> 46508 | L4: =DATE(YEAR(K4),MONTH(K4)+1,1) -> 46539 | ... O4: =DATE(YEAR(N4),MONTH(N4)+1,1) -> 46631 | P4: TOTAL
B5: APP INSTALL FUNNEL | C5: INVESTMENT | D5: 500 | E5: 800 | F5: 800 | G5: 800 | H5: 500 | I5: 500 | J5: 0 | K5: 0 | L5: 0 | M5: 0 | N5: 0 | O5: 0 | P5: =SUM(D5:O5) -> 3900
C6: CPM ACQUISITION ADS (Cost per Mille) | D6: 6 | E6: =D6 -> 6 | F6: =E6 -> 6 | G6: =F6 -> 6 | H6: =G6 -> 6 | I6: =H6 -> 6 | J6: =I6 -> 6 | K6: =J6 -> 6 | L6: =K6 -> 6 | ... O6: =N6 -> 6 | P6: =SUM(E6:O6) -> 66
C7: IMPRESSIONS | D7: =(D5/D6)*1000 -> 83333.333 | E7: =(E5/E6)*1000 -> 133333.33 | F7: =(F5/F6)*1000 -> 133333.33 | G7: =(G5/G6)*1000 -> 133333.33 | H7: =(H5/H6)*1000 -> 83333.333 | I7: =(I5/I6)*1000 -> 83333.333 | J7: =(J5/J6)*1000 -> 0 | K7: =(K5/K6)*1000 -> 0 | ... O7: =(O5/O6)*1000 -> 0 | P7: =SUM(D7:O7) -> 650000
C8: CLICK-TROUGH RATE (CTR %) | D8: 0.018 | E8: 0.01 | F8: 0.01 | G8: 0.01 | H8: 0.01 | I8: 0.01 | J8: 0.01 | K8: 0.01 | L8: 0.01 | M8: 0.01 | N8: 0.01 | O8: 0.01 | P8: =AVERAGE(D8:O8) -> 0.010666667
C9: CLICKS | D9: =D8*D7 -> 1500 | E9: =E8*E7 -> 1333.3333 | F9: =F8*F7 -> 1333.3333 | G9: =G8*G7 -> 1333.3333 | H9: =H8*H7 -> 833.33333 | I9: =I8*I7 -> 833.33333 | J9: =J8*J7 -> 0 | K9: =K8*K7 -> 0 | ... O9: =O8*O7 -> 0 | P9: =SUM(D9:O9) -> 7166.6667
C10: COST PER CLICK (CPC) | D10: =IFERROR(D5/D9,0) -> 0.33333333 | E10: =IFERROR(E5/E9,0) -> 0.6 | F10: =IFERROR(F5/F9,0) -> 0.6 | G10: =IFERROR(G5/G9,0) -> 0.6 | H10: =IFERROR(H5/H9,0) -> 0.6 | I10: =IFERROR(I5/I9,0) -> 0.6 | J10: =IFERROR(J5/J9,0) -> 0 | K10: =IFERROR(K5/K9,0) -> 0 | ... O10: =IFERROR(O5/O9,0) -> 0 | P10: =AVERAGE(D10:O10) -> 0.27777778
C11: INSTALL RATE (%) | D11: 0.3 | E11: =D11 -> 0.3 | F11: =E11 -> 0.3 | G11: =F11 -> 0.3 | H11: =G11 -> 0.3 | I11: =H11 -> 0.3 | J11: =I11 -> 0.3 | K11: =J11 -> 0.3 | L11: =K11 -> 0.3 | ... O11: =N11 -> 0.3 | P11: =AVERAGE(D11:O11) -> 0.3
C12: INSTALLS | D12: =D9*D11 -> 450 | E12: =E9*E11 -> 400 | F12: =F9*F11 -> 400 | G12: =G9*G11 -> 400 | H12: =H9*H11 -> 250 | I12: =I9*I11 -> 250 | J12: =J9*J11 -> 0 | K12: =K9*K11 -> 0 | ... O12: =O9*O11 -> 0 | P12: =SUM(D12:O12) -> 2150
C13: CPI (Cost per Install) | D13: =IFERROR(D5/D12,) -> 1.1111111 | E13: =IFERROR(E5/E12,) -> 2 | F13: =IFERROR(F5/F12,) -> 2 | G13: =IFERROR(G5/G12,) -> 2 | H13: =IFERROR(H5/H12,) -> 2 | I13: =IFERROR(I5/I12,) -> 2 | J13: =IFERROR(J5/J12,) -> 0 | K13: =IFERROR(K5/K12,) -> 0 | ... O13: =IFERROR(O5/O12,) -> 0 | P13: =IFERROR(P5/P12,0) -> 1.8139535
B15: CUSTOMER BASE | C15: NEW ACTIVE USERS | D15: =D12 -> 450 | E15: =E12 -> 400 | F15: =F12 -> 400 | G15: =G12 -> 400 | H15: =H12 -> 250 | I15: =I12 -> 250 | J15: =J12 -> 0 | K15: =K12 -> 0 | ... O15: =O12 -> 0 | P15: =SUM(D15:O15) -> 2150
